BEGIN:VCALENDAR
VERSION:2.0
PRODID:-//wp-events-plugin.com//7.2.3.1//EN
BEGIN:VEVENT
UID:382@breathelosangeles.us
DTSTART;TZID=America/Los_Angeles:20240817T120000
DTEND;TZID=America/Los_Angeles:20240818T190000
DTSTAMP:20240813T061723Z
URL:https://breathelosangeles.us/events/dusty-diamonds-pre-playa-market/
SUMMARY:Dusty Diamonds Pre Playa Market
DESCRIPTION:Step into the vibrant world of the Dusty Diamonds Pre-Playa Mar
 ket—a captivating event designed to showcase a diverse collection of uni
 que clothing\, costumes\, accessories\, and jewelry. This market offers an
  exciting opportunity for attendees to discover one-of-a-kind pieces that 
 perfectly capture the spirit of creativity and self-expression.\n\nEvent H
 ighlights:\n\n 	Unique Offerings: Explore a curated selection of distincti
 ve apparel\, imaginative costumes\, and eye-catching accessories that cate
 r to various tastes and styles. This is the perfect place to find somethin
 g special for the upcoming festivities.\n 	Diverse Selection: From avant-g
 arde fashion statements to intricate jewelry designs\, the market features
  an array of items that cater to different tastes and preferences\, ensuri
 ng there’s something for everyone.\n 	Community Atmosphere: Enjoy a live
 ly and inclusive environment where you can connect with vendors and fellow
  attendees who share a passion for unique and creative fashion.\n\nDetails
 :\n\n 	Event Type: This is a free event\, allowing everyone to participate
  in the excitement and explore the offerings without any cost.\n 	Purpose:
  The market serves as a pre-festival gathering\, providing an ideal opport
 unity for attendees to prepare for the playa and embrace their personal st
 yle.\n\nJoin us at the Dusty Diamonds Pre-Playa Market to enhance your war
 drobe with extraordinary pieces and immerse yourself in a community celebr
 ation of individuality and artistic expression.\n\nGET TICKETS\n
ATTACH;FMTTYPE=image/jpeg:https://breathelosangeles.us/wp-content/uploads/
 2024/08/Dusty-Diamonds-Pre-Playa-Market.jpg
CATEGORIES:Things To Do
LOCATION:Club Joyful\, 2121 Lincoln Boulevard\, Los Angeles\, California\, 
 90291\, CA\, United States
X-APPLE-STRUCTURED-LOCATION;VALUE=URI;X-ADDRESS=2121 Lincoln Boulevard\, Lo
 s Angeles\, California\, 90291\, CA\, United States;X-APPLE-RADIUS=100;X-T
 ITLE=Club Joyful:geo:0,0
END:VEVENT
BEGIN:VTIMEZONE
TZID:America/Los_Angeles
X-LIC-LOCATION:America/Los_Angeles
BEGIN:DAYLIGHT
DTSTART:20240310T030000
TZOFFSETFROM:-0800
TZOFFSETTO:-0700
TZNAME:PDT
END:DAYLIGHT
END:VTIMEZONE
END:VCALENDAR