BEGIN:VCALENDAR
VERSION:2.0
PRODID:-//wp-events-plugin.com//7.2.3.1//EN
BEGIN:VEVENT
UID:807@breathelosangeles.us
DTSTART;TZID=America/Los_Angeles:20241116T100000
DTEND;TZID=America/Los_Angeles:20241116T120000
DTSTAMP:20241022T104812Z
URL:https://breathelosangeles.us/events/elderberry-syrup-medicine-making-w
 orkshop/
SUMMARY:Elderberry Syrup Medicine Making Workshop
DESCRIPTION:Join Jenny Griffith for an engaging two-hour workshop where par
 ticipants will learn to create their own immune-boosting elderberry syrup 
 using locally sourced ingredients. This hands-on experience is designed fo
 r anyone interested in natural wellness and herbal medicine\, providing va
 luable skills that can be easily integrated into a healthy lifestyle.\n\nT
 hroughout the workshop\, Jenny will guide attendees through the myriad hea
 lth benefits of elderberries\, which are renowned for their rich antioxida
 nt properties and immune-supporting capabilities. Participants will gain i
 nsight into the traditional uses of elderberry and its effectiveness in pr
 omoting overall well-being.\n\nThe workshop will cover the entire syrup-ma
 king process\, from the initial preparation of the berries to the final st
 ep of bottling your homemade syrup to take home. Each participant will lea
 ve with a personalized batch of elderberry syrup\, making it a wonderful a
 ddition to their natural wellness routine. This syrup can be used as a del
 icious supplement to boost immunity\, soothe sore throats\, and enhance ov
 erall health.\n\nAdditional Information:\n\n 	All necessary materials\, in
 cluding jars for bottling the syrup\, will be provided\, ensuring a smooth
  and enjoyable experience.\n 	The workshop encourages a collaborative atmo
 sphere where participants can ask questions\, share their experiences\, an
 d connect with others who share a passion for herbal remedies.\n\nDon’t 
 miss this opportunity to learn about the art of elderberry syrup-making an
 d enhance your knowledge of natural health practices. Join Jenny for a fun
  and informative workshop that empowers you to take charge of your health 
 in a delicious way!\n\nGET TICKETS\n
ATTACH;FMTTYPE=image/jpeg:https://breathelosangeles.us/wp-content/uploads/
 2024/10/Elderberry-Syrup-Medicine-Making-Workshop.jpeg
CATEGORIES:Wellness Events
LOCATION:1150 Quail Gardens Dr\, 1150 Quail Gardens Drive Encinitas\, c\, C
 alifornia\, 92024\, CA\, United States
X-APPLE-STRUCTURED-LOCATION;VALUE=URI;X-ADDRESS=1150 Quail Gardens Drive En
 cinitas\, c\, California\, 92024\, CA\, United States;X-APPLE-RADIUS=100;X
 -TITLE=1150 Quail Gardens Dr:geo:0,0
END:VEVENT
BEGIN:VTIMEZONE
TZID:America/Los_Angeles
X-LIC-LOCATION:America/Los_Angeles
BEGIN:STANDARD
DTSTART:20241103T010000
TZOFFSETFROM:-0700
TZOFFSETTO:-0800
TZNAME:PST
END:STANDARD
END:VTIMEZONE
END:VCALENDAR