BEGIN:VCALENDAR
VERSION:2.0
PRODID:-//wp-events-plugin.com//7.2.3.1//EN
BEGIN:VEVENT
UID:803@breathelosangeles.us
DTSTART;TZID=America/Los_Angeles:20241114T193000
DTEND;TZID=America/Los_Angeles:20241114T213000
DTSTAMP:20241022T095018Z
URL:https://breathelosangeles.us/events/embody-your-inner-goddess/
SUMMARY:Embody Your Inner Goddess
DESCRIPTION:\n\n\n\n\nUnlock the power of your feminine energy at Embody Yo
 ur Inner Goddess\, an empowering in-person workshop happening on Thursday\
 , November 14\, 2024\, at 7:30 PM in Hollywood. Led by Nichole Katsikas\, 
 a sensual embodiment coach\, photographer\, and former Pro-Domme\, this tr
 ansformative event is designed to help participants connect deeply with th
 eir inner Goddess and explore their sensuality in a safe\, private space.\
 n\nThis workshop invites you to embrace and celebrate your feminine energy
  while overcoming limiting beliefs that may hinder your confidence and sel
 f-expression. Through a series of engaging activities\, including guided m
 editation\, journal prompts\, adornment\, and a playful boudoir photoshoot
 \, attendees will be guided through an empowering process of self-discover
 y. The goal is to help participants reconnect with their sensual side\, re
 lease societal or personal restrictions\, and discover the inner strength 
 they possess.\n\nWhether you are new to this kind of work or already on a 
 journey of self-exploration\, this experience offers a space for all women
  to step into their full power. You will leave the event feeling inspired\
 , badass\, and invigorated—ready to show up in the world with confidence
  and authenticity.\n\nEvent Highlights:\n\n 	Guided Meditation: Ground you
 rself and connect with your inner self through a relaxing meditation.\n 	J
 ournal Prompts: Reflect on personal experiences and work through limiting 
 beliefs that may be holding you back.\n 	Adornment: Celebrate your body by
  dressing and adorning yourself in a way that makes you feel empowered.\n 
 	Boudoir Photoshoot: Playfully explore your sensual side in a fun\, light-
 hearted boudoir shoot that celebrates your unique beauty.\n\nAbout Nichole
  Katsikas: Nichole Katsikas is a Greek-American embodiment coach and forme
 r Pro-Domme with over 6 years of experience in the sensual arts. A passion
 ate student of Tantra and Somatic Trauma Therapy\, Nichole has studied und
 er industry leaders in manifestation techniques and sexual healing. She is
  committed to helping others break free from limiting beliefs and live aut
 hentically in their personal\, sexual\, and professional lives.\n\nJoin us
  as you embrace the Goddess within and step into your most powerful\, auth
 entic self. Come as you are\, and leave feeling inspired\, confident\, and
  ready to conquer the world.\n\n\n\n\n\n\n\n\n\n&nbsp\;\n\n\n\n4o\n\nGET T
 ICKETS\n\n\n\n\n
ATTACH;FMTTYPE=image/jpeg:https://breathelosangeles.us/wp-content/uploads/
 2024/10/Embody-Your-Inner-Goddess.jpeg
CATEGORIES:Wellness Events
LOCATION:Studio Q312 N\,  Western Ave\, Los Angeles\, California\, 90004\, 
 CA\, United States
X-APPLE-STRUCTURED-LOCATION;VALUE=URI;X-ADDRESS= Western Ave\, Los Angeles\
 , California\, 90004\, CA\, United States;X-APPLE-RADIUS=100;X-TITLE=Studi
 o Q312 N:geo:0,0
END:VEVENT
BEGIN:VTIMEZONE
TZID:America/Los_Angeles
X-LIC-LOCATION:America/Los_Angeles
BEGIN:STANDARD
DTSTART:20241103T010000
TZOFFSETFROM:-0700
TZOFFSETTO:-0800
TZNAME:PST
END:STANDARD
END:VTIMEZONE
END:VCALENDAR