BEGIN:VCALENDAR
VERSION:2.0
PRODID:-//wp-events-plugin.com//7.2.3.1//EN
BEGIN:VEVENT
UID:536@breathelosangeles.us
DTSTART;TZID=America/Los_Angeles:20241017T080000
DTEND;TZID=America/Los_Angeles:20241018T173000
DTSTAMP:20240925T153838Z
URL:https://breathelosangeles.us/events/emergency-nursing-pediatric-course
 -enpc/
SUMMARY:Emergency Nursing Pediatric Course (ENPC)
DESCRIPTION:The Emergency Nursing Pediatric Course (ENPC) is designed to eq
 uip healthcare professionals with the specialized knowledge and skills req
 uired for the accurate assessment and management of children experiencing 
 acute illness or injury. This course\, taught by experienced pediatric nur
 ses\, focuses on providing evidence-based interventions aimed at improving
  outcomes for this vulnerable population.\nCourse Highlights\nParticipants
  will gain insight into:\n\n 	The most current pediatric emergency nursing
  practices.\n 	Systematic assessment methods and their application in care
 .\n 	Practical education applicable to every pediatric patient treated.\n 
 	The option of virtual courses for flexible learning.\n\nCourse Format\nEN
 PC utilizes diverse learning methodologies to accommodate various learning
  styles\, including:\n\n 	Manual: A comprehensive manual that covers essen
 tial pediatric emergency nursing content\, including topics like dermatolo
 gic emergencies\, environmental hazards\, human trafficking\, and food all
 ergies.\n 	Online Modules: Pre-course online modules allow learners to stu
 dy at their own pace\, apply knowledge\, and receive immediate feedback\, 
 with a complete case study process guiding participants through a full seq
 uence of care.\n 	Instructor-Led Sessions: The course includes one and a h
 alf days of interactive in-person learning\, featuring skill stations\, ga
 mes\, and other engaging exercises.\n 	Electronic Testing: Participants ca
 n take an open-book test in a comfortable environment\, eliminating test a
 nxiety.\n\nWhy Choose ENA's ENPC?\nThe ENPC course stands out for its:\n\n
  	Evidence-based content crafted by pediatric nursing experts.\n 	Curricul
 um tailored specifically for nurses.\n 	Regularly updated course materials
  that reflect the evolution of pediatric care.\n 	Successful participants 
 earn four-year internationally recognized verification as an ENPC provider
 \, enhancing their confidence in handling emergency pediatric cases.\n 	Op
 portunity to earn 18.25 Continuing Nursing Education (CNE) hours.\n\nPrere
 quisites\nTo enroll in the ENPC\, participants must hold a current\, unres
 tricted nursing license. Licensed practical nurses and paramedics may atte
 nd and receive CNE hours but will not qualify for provider status verifica
 tion.\n\nThe Emergency Nurses Association is accredited by the American Nu
 rses Credentialing Center’s Commission on Accreditation and is approved 
 by the California Board of Registered Nursing.\nCourse Information\n\n 	Da
 tes: October 17-18\, 2024\n 	Time:\n\n 	Day 1: 8:00 AM - 5:30 PM\n 	Day 2:
  8:00 AM - 5:30 PM\n\n\n 	Location: Cedars-Sinai Medical Center - Women’
 s Guild Simulation Center for Advanced Clinical Skills and Innovation\nAdd
 ress:\nSusanne &amp\; Ervin Bard Pavilion (Pavilion Building)\n127 S. San 
 Vicente Boulevard\, Street Level\, Suite A1300\nLos Angeles\, CA 90048\n\n
 Cancellation/No-Show Policy\nParticipants must be aware of the cancellatio
 n policy: a fee of $250 applies for cancellations made within 60 days of t
 he event\, and $300 for cancellations within 30 days. By registering\, you
  agree to these terms.\nParking Information\nParking is available at Lot P
 4\, and validation is provided.\n\nFor more information\, please contact A
 melia Manlutac at amelia.manlutac@csmc.edu or (424) 315-2243.\nConclusion\
 nThe Emergency Nursing Pediatric Course offers invaluable training for hea
 lthcare professionals seeking to enhance their pediatric emergency care sk
 ills. With its comprehensive curriculum and expert-led instruction\, ENPC 
 prepares nurses to deliver high-quality care to children in emergency situ
 ations.\n\nGET TICKETS\n
ATTACH;FMTTYPE=image/jpeg:https://breathelosangeles.us/wp-content/uploads/
 2024/09/Emergency-Nursing-Pediatric-Course-ENPC.jpg
CATEGORIES:Wellness Events
LOCATION:Cedars-Sinai Medical Center\, 127 South San Vicente Boulevard Suit
 e A1300 \, Los Angeles\, California\, 90048\, CA\, United States
X-APPLE-STRUCTURED-LOCATION;VALUE=URI;X-ADDRESS=127 South San Vicente Boule
 vard Suite A1300 \, Los Angeles\, California\, 90048\, CA\, United States;
 X-APPLE-RADIUS=100;X-TITLE=Cedars-Sinai Medical Center:geo:0,0
END:VEVENT
BEGIN:VTIMEZONE
TZID:America/Los_Angeles
X-LIC-LOCATION:America/Los_Angeles
BEGIN:DAYLIGHT
DTSTART:20240310T030000
TZOFFSETFROM:-0800
TZOFFSETTO:-0700
TZNAME:PDT
END:DAYLIGHT
END:VTIMEZONE
END:VCALENDAR