BEGIN:VCALENDAR
VERSION:2.0
PRODID:-//wp-events-plugin.com//7.2.3.1//EN
BEGIN:VEVENT
UID:354@breathelosangeles.us
DTSTART;TZID=America/Los_Angeles:20240719T180000
DTEND;TZID=America/Los_Angeles:20240719T200000
DTSTAMP:20240630T062000Z
URL:https://breathelosangeles.us/events/energize-thrive/
SUMMARY:Energize & Thrive
DESCRIPTION:Immerse yourself in an evening dedicated to holistic wellness\,
  where movement\, Reiki\, and nutrition converge to nurture your body\, mi
 nd\, and soul. Step into an urban oasis designed for relaxation\, rejuvena
 tion\, and deep inner healing.\n\nEvent Highlights:\n\nJoin Reiki Master Y
 an Weng as she guides you through empowering techniques to alleviate stres
 s\, boost energy levels\, and enhance the quality of your sleep. Experienc
 e the soothing and transformative power of Reiki\, a practice that promote
 s physical and emotional healing by channeling universal life force energy
 .\n\nFollowing the Reiki session\, engage in a stimulating roundtable disc
 ussion led by Registered Dietitian Dr. Supatra Tovar. Explore the vital ro
 le of nutrition in holistic healing and learn practical tips to optimize y
 our health and well-being through mindful eating practices.\n\nKey Activit
 ies Include:\n\n 	Reiki Session: Relax deeply as Reiki Master Yan Weng fac
 ilitates a session aimed at restoring balance and vitality within your ene
 rgy centers.\n 	Roundtable Discussion: Delve into the significance of nutr
 ition in supporting overall health and healing. Gain insights from Dr. Sup
 atra Tovar on how to integrate nutritious foods into your daily diet to en
 hance your wellness journey.\n\nWhat to Bring:\n\nTo fully participate in 
 the rejuvenating experience\, please bring your own yoga mat and wear comf
 ortable clothing that allows ease of movement and relaxation.\n\nWhy Atten
 d:\n\nEnergize &amp\; Thrive offers a unique opportunity to unwind from th
 e demands of daily life and invest in your well-being. Whether you seek st
 ress relief\, increased vitality\, or nutritional guidance\, this holistic
  evening promises to leave you feeling refreshed\, revitalized\, and empow
 ered.\n\nEmbrace the chance to reconnect with yourself and explore holisti
 c practices that promote holistic wellness. Reserve your spot today and em
 bark on a journey towards optimal health and inner harmony.\n\nGET TICKETS
 \n
ATTACH;FMTTYPE=image/jpeg:https://breathelosangeles.us/wp-content/uploads/
 2024/06/Energize-Thrive.jpg
CATEGORIES:Mindfulness Events,Wellness Events
LOCATION:City Club LA\, 555 S. Flower Street Penthouse - 51st Floor\, Los A
 ngeles\, California\, 90071\, CA\, United States
X-APPLE-STRUCTURED-LOCATION;VALUE=URI;X-ADDRESS=555 S. Flower Street Pentho
 use - 51st Floor\, Los Angeles\, California\, 90071\, CA\, United States;X
 -APPLE-RADIUS=100;X-TITLE=City Club LA:geo:0,0
END:VEVENT
BEGIN:VTIMEZONE
TZID:America/Los_Angeles
X-LIC-LOCATION:America/Los_Angeles
BEGIN:DAYLIGHT
DTSTART:20240310T030000
TZOFFSETFROM:-0800
TZOFFSETTO:-0700
TZNAME:PDT
END:DAYLIGHT
END:VTIMEZONE
END:VCALENDAR