BEGIN:VCALENDAR
VERSION:2.0
PRODID:-//wp-events-plugin.com//7.2.3.1//EN
BEGIN:VEVENT
UID:814@breathelosangeles.us
DTSTART;TZID=America/Los_Angeles:20241124T090000
DTEND;TZID=America/Los_Angeles:20241124T180000
DTSTAMP:20241027T144428Z
URL:https://breathelosangeles.us/events/essentials-of-making-chinese-herba
 l-topicals/
SUMMARY:Essentials of Making Chinese Herbal Topicals
DESCRIPTION:Participants are invited to join a practical workshop on the ar
 t and application of Chinese herbal topicals\, delving into the traditiona
 l methods for crafting liniments\, creams\, poultices\, and tinctures. Thi
 s hands-on class provides the knowledge to create and use a variety of her
 bal remedies to address common conditions such as pain\, inflammation\, su
 nburn\, and eczema.\n\nThe course guides attendees through the process of 
 using raw herbs to make die da jiao\, a famous martial arts tincture\, as 
 well as black paste poultices designed for trauma relief\, and other thera
 peutic creams. By the end of the session\, each participant will gain hand
 s-on experience in preparing these herbal solutions\, along with a deeper 
 clinical understanding of their practical applications and effectiveness.\
 n\nAs a bonus\, attendees will leave with their own handmade poultice\, sa
 lve\, and liniment\, ready for personal use.\n\nRefund Policy: Cancellatio
 ns submitted in writing one week before the course start date will receive
  a refund\, minus a $30.00 administrative fee. Unfortunately\, no refunds 
 will be issued for cancellations made after this date.\n\nCalifornia Acupu
 ncture Board CEU Provider Number: 0128\n\nGET TICKETS\n
ATTACH;FMTTYPE=image/jpeg:https://breathelosangeles.us/wp-content/uploads/
 2024/10/Essentials-of-Making-Chinese-Herbal-Topicals.jpeg
CATEGORIES:Wellness Events
LOCATION:Yo San University of Traditional Chinese Medicine\, 13315 W. Washi
 ngton Boulevard\, Los Angeles\, California\, 90066\, CA\, United States
X-APPLE-STRUCTURED-LOCATION;VALUE=URI;X-ADDRESS=13315 W. Washington Bouleva
 rd\, Los Angeles\, California\, 90066\, CA\, United States;X-APPLE-RADIUS=
 100;X-TITLE=Yo San University of Traditional Chinese Medicine:geo:0,0
END:VEVENT
BEGIN:VTIMEZONE
TZID:America/Los_Angeles
X-LIC-LOCATION:America/Los_Angeles
BEGIN:STANDARD
DTSTART:20241103T010000
TZOFFSETFROM:-0700
TZOFFSETTO:-0800
TZNAME:PST
END:STANDARD
END:VTIMEZONE
END:VCALENDAR