BEGIN:VCALENDAR
VERSION:2.0
PRODID:-//wp-events-plugin.com//7.2.3.1//EN
BEGIN:VEVENT
UID:526@breathelosangeles.us
DTSTART;TZID=America/Los_Angeles:20240927T180000
DTEND;TZID=America/Los_Angeles:20240927T200000
DTSTAMP:20240918T074555Z
URL:https://breathelosangeles.us/events/exclusive-health-wellness-rooftop-
 event/
SUMMARY:Exclusive Health & Wellness Rooftop Event!
DESCRIPTION:Elevate your wellness journey at our Exclusive Health &amp\; We
 llness Rooftop Event! Set against a stunning backdrop\, this event is desi
 gned to help you discover the best version of yourself through cutting-edg
 e health practices and rejuvenating therapies.\n\nExplore a range of trans
 formative treatments\, including Medical Weight Loss Programs\, NAD Therap
 y for enhanced cellular function\, revitalizing IV Infusions\, and the anc
 ient practice of Yoni Steaming for holistic feminine wellness. Throughout 
 the event\, you'll have the opportunity to observe live demonstrations of 
 these therapies\, providing a firsthand look at how they can enhance your 
 well-being.\n\nIn addition to wellness services\, the event offers excitin
 g prizes\, making your experience both educational and rewarding. Whether 
 you're looking to reset your health\, optimize energy\, or simply indulge 
 in self-care\, this rooftop gathering promises an empowering and refreshin
 g experience.\n\nEvent Highlights:\n\n 	Medical Weight Loss Programs to he
 lp you achieve your health goals.\n 	NAD Therapy for anti-aging and cellul
 ar health.\n 	IV Infusions for hydration and nutrient replenishment.\n 	Yo
 ni Steaming\, an ancient practice for feminine wellness and rejuvenation.\
 n 	Live Demonstrations showcasing each therapy in action.\n 	Exciting Priz
 es and giveaways for attendees.\n\nJoin us for an evening dedicated to wel
 lness\, education\, and connection—an exclusive opportunity to nurture y
 our health in a serene rooftop setting!\n\nGET TICKETS\n
ATTACH;FMTTYPE=image/jpeg:https://breathelosangeles.us/wp-content/uploads/
 2024/09/Exclusive-Health-Wellness-Rooftop-Event.jpg
CATEGORIES:Things To Do,Wellness Events
LOCATION:313 E Palmdale Blvd\, 313 East Palmdale Boulevard Palmdale\, Los A
 ngeles\, California\, 93550\, CA\, United States
X-APPLE-STRUCTURED-LOCATION;VALUE=URI;X-ADDRESS=313 East Palmdale Boulevard
  Palmdale\, Los Angeles\, California\, 93550\, CA\, United States;X-APPLE-
 RADIUS=100;X-TITLE=313 E Palmdale Blvd:geo:0,0
END:VEVENT
BEGIN:VTIMEZONE
TZID:America/Los_Angeles
X-LIC-LOCATION:America/Los_Angeles
BEGIN:DAYLIGHT
DTSTART:20240310T030000
TZOFFSETFROM:-0800
TZOFFSETTO:-0700
TZNAME:PDT
END:DAYLIGHT
END:VTIMEZONE
END:VCALENDAR