BEGIN:VCALENDAR
VERSION:2.0
PRODID:-//wp-events-plugin.com//7.2.3.1//EN
BEGIN:VEVENT
UID:240@breathelosangeles.us
DTSTART;TZID=America/Los_Angeles:20240503T090000
DTEND;TZID=America/Los_Angeles:20240503T103000
DTSTAMP:20240417T130948Z
URL:https://breathelosangeles.us/events/experience-the-yoga-of-immortality
 -2/
SUMMARY:EXPERIENCE THE YOGA OF IMMORTALITY (FRIDAYS)
DESCRIPTION:\nDiscover Radiant Health &amp\; Vitality with Shakti Naam Yoga
 !\nAre you seeking a powerful and rejuvenating way to defy aging and disea
 se? Look no further than Shakti Naam Yoga!\nA Himalayan Tradition Unveiled
 :\nThis unique yogic practice originates in the Himalayas\, offering a pot
 ent blend of movement\, breath\, acupressure\, stretching\, and vocal vibr
 ation. New to the West\, it promises a transformative journey towards vibr
 ant health.\nUnleash Your Inner Healer:\nShakti Naam activates and strengt
 hens your body's natural healing abilities. Through standing postures\, de
 ep breathing techniques\, and targeted exercises\, you'll remove energy bl
 ockages (in the meridians) and promote overall well-being.\nBenefits for A
 ll:\nShakti Naam is suitable for people of all ages and fitness levels. Wh
 ether you're seeking increased energy\, radiant health\, or a longer life 
 span\, this practice has something to offer you.\nPrepare for Your Transfo
 rmation:\nDress comfortably and bring water to stay hydrated throughout th
 e class.\nImportant Note:\nSpace is limited\, so registration prior to arr
 ival is mandatory.\nFree Parking Available:\nStreet parking is readily ava
 ilable for your convenience.\nArrive Early &amp\; Be Ready!\nPlease arrive
  5-10 minutes before the start time to settle in. Doors close promptly onc
 e the class begins.\nEmbrace the Shakti Naam Difference!\nJoin us and emba
 rk on a transformative journey towards radiant health\, happiness\, and vi
 tality with Shakti Naam Yoga!\n\n\n\nBUY TICKETS\n
ATTACH;FMTTYPE=image/jpeg:https://breathelosangeles.us/wp-content/uploads/
 2024/04/https___cdn.evbuc_.com_images_713893959_258598096451_1_original.jp
 eg
CATEGORIES:Wellness Events
LOCATION:Villa Bodhaya\, 4709 Dunman avenue\, Woodland-Hills\, California\,
  91364\, United States
X-APPLE-STRUCTURED-LOCATION;VALUE=URI;X-ADDRESS=4709 Dunman avenue\, Woodla
 nd-Hills\, California\, 91364\, United States;X-APPLE-RADIUS=100;X-TITLE=V
 illa Bodhaya:geo:0,0
END:VEVENT
BEGIN:VTIMEZONE
TZID:America/Los_Angeles
X-LIC-LOCATION:America/Los_Angeles
BEGIN:DAYLIGHT
DTSTART:20240310T030000
TZOFFSETFROM:-0800
TZOFFSETTO:-0700
TZNAME:PDT
END:DAYLIGHT
END:VTIMEZONE
END:VCALENDAR