BEGIN:VCALENDAR
VERSION:2.0
PRODID:-//wp-events-plugin.com//7.2.3.1//EN
BEGIN:VEVENT
UID:276@breathelosangeles.us
DTSTART;TZID=America/Los_Angeles:20240518T110000
DTEND;TZID=America/Los_Angeles:20240518T170000
DTSTAMP:20240507T200212Z
URL:https://breathelosangeles.us/events/experience-with-overnight/
SUMMARY:2 Day Luxury Spa & Soul Experience with Overnight Stay\, Beverly Hi
 lls\, CA
DESCRIPTION:\nBeverly Hills Bliss: A Bespoke Healing Retreat at The Beverly
  Wilshire\nUnwind\, Recharge\, and Rejuvenate in Ultimate Luxury!\nIndulge
  in an unforgettable experience at the stunning Beverly Wilshire\, A Four 
 Seasons Hotel\, with Best Life-ing's exclusive Healing &amp\; Wellness You
 r Way Retreat.\nA Personalized Journey to Well-Being:\n\n\n 	Your Needs\, 
 Our Focus: Escape the ordinary and embark on a personalized wellness journ
 ey designed specifically for you. Our dedicated team of skilled practition
 ers will work closely with you to craft a bespoke program that caters to y
 our unique needs\, intentions\, and goals.\n 	Luxury at Every Turn: Immers
 e yourself in the luxurious comfort of the Beverly Wilshire. From the mome
 nt you arrive\, personalized attention and exceptional service ensure an u
 nparalleled retreat experience.\n 	Healing Modalities for Every Desire: Di
 scover a range of transformative healing modalities\, including regression
  hypnotherapy\, breathwork\, sound healing\, private yoga\, guided meditat
 ion\, and more. This diverse selection empowers you to tailor your experie
 nce to achieve your desired outcomes.\n 	Nourishing Cuisine: Savor delicio
 us\, meticulously prepared cuisine that prioritizes whole-body health. Let
  nourishing meals fuel your body and enhance your well-being journey.\n\nA
  Retreat Unlike Any Other:\n\n\n 	Bespoke Attention: This retreat goes bey
 ond generic programs. Personalized 1-on-1 attention ensures you feel cared
  for and supported throughout your stay.\n 	Unparalleled Relaxation: Wheth
 er you seek to melt away stress\, reawaken your inner vitality\, or simply
  unwind in pure luxury\, our tailored approach guides you towards achievin
 g your desired state of well-being.\n 	A Transformative Escape: Leave behi
 nd the everyday and step into a haven of healing and rejuvenation. This re
 treat offers the perfect opportunity to reset\, recharge\, and return home
  feeling revitalized and empowered.\n\nDon't Wait\, Invest in Yourself!\nT
 he Healing &amp\; Wellness Your Way Retreat at the Beverly Wilshire is an 
 invitation to prioritize your well-being in an environment of unparalleled
  luxury and personalized care. Join us and discover a transformative journ
 ey towards your best life!\nHashtags:\n#LuxuryWellnessRetreat #BeverlyWils
 hire #BestLifeIng #PersonalizedHealing #HealingModalities #WellbeingEscape
 \n\n\n\nBUY TICKETS\n
ATTACH;FMTTYPE=image/jpeg:https://breathelosangeles.us/wp-content/uploads/
 2024/05/https___cdn.evbuc_.com_images_742354059_562332624613_1_original.jp
 eg
CATEGORIES:Wellness Events
LOCATION:A Four Seasons Hotel\, 9500 Wilshire Boulevard\, Beverly Hills\, C
 alifornia\, 90212\, United States
X-APPLE-STRUCTURED-LOCATION;VALUE=URI;X-ADDRESS=9500 Wilshire Boulevard\, B
 everly Hills\, California\, 90212\, United States;X-APPLE-RADIUS=100;X-TIT
 LE=A Four Seasons Hotel:geo:0,0
END:VEVENT
BEGIN:VTIMEZONE
TZID:America/Los_Angeles
X-LIC-LOCATION:America/Los_Angeles
BEGIN:DAYLIGHT
DTSTART:20240310T030000
TZOFFSETFROM:-0800
TZOFFSETTO:-0700
TZNAME:PDT
END:DAYLIGHT
END:VTIMEZONE
END:VCALENDAR