BEGIN:VCALENDAR
VERSION:2.0
PRODID:-//wp-events-plugin.com//7.2.3.1//EN
BEGIN:VEVENT
UID:712@breathelosangeles.us
DTSTART;TZID=America/Los_Angeles:20241020T100000
DTEND;TZID=America/Los_Angeles:20241020T170000
DTSTAMP:20241015T064443Z
URL:https://breathelosangeles.us/events/fall-wellness-retreat/
SUMMARY:Fall Wellness Retreat
DESCRIPTION:On Sunday\, October 20th\, a transformative full-day retreat wi
 ll take place\, inviting participants to celebrate the beauty of autumn wh
 ile nurturing their well-being. This immersive experience is thoughtfully 
 crafted to help individuals reconnect with themselves through an array of 
 holistic practices.\n🍂 Experience Solace this Fall Season 🍂\nSet aga
 inst the backdrop of a stunning rooftop in Los Angeles\, this retreat offe
 rs a serene haven amid the city's bustling energy. Attendees will have the
  opportunity to engage in various rejuvenating activities designed to prom
 ote physical\, mental\, and spiritual well-being.\n\nRejuvenating Yoga\nPa
 rticipants will flow through a revitalizing yoga session tailored for all 
 skill levels. This energizing practice aims to strengthen the body while e
 nhancing flexibility and balance\, all within a tranquil environment that 
 fosters peace and mindfulness.\n\nSpecial Guest Speakers\nAttendees will b
 e inspired by special guest speakers who will lead guided meditation sessi
 ons focused on cultivating mindfulness and inner peace. These sessions wil
 l offer techniques to quiet the mind and center the soul\, while the speak
 ers share valuable insights from their personal journeys related to growth
  and self-care.\n\nSoulful Sound Bath\nA soothing sound bath experience aw
 aits\, where participants can immerse themselves in healing vibrations. Th
 e calming frequencies will wash over them\, promoting deep relaxation and 
 rejuvenation\, allowing them to release tension and restore balance.\n\nEc
 static Dance\nIn a liberating dance session\, participants will have the c
 hance to release their inhibitions and express themselves through movement
 . This joyful experience encourages connection and playfulness\, inviting 
 everyone to dance freely and celebrate their individuality.\n\nNourishing 
 Meals and Tea Station\nThroughout the day\, attendees will enjoy a variety
  of healthy\, delicious meals and snacks designed to nourish the body and 
 energize the spirit. A dedicated tea station will offer a selection of soo
 thing\, infused herbal teas\, providing additional comfort and warmth.\n\n
 Connect and Reflect\nThe retreat also emphasizes connection among particip
 ants. Attendees will have the opportunity to share experiences\, engage in
  reflective conversations\, and participate in a DIY essential oil-making 
 self-care station for a more immersive experience. To conclude the day\, t
 here will be a fun mixer featuring live music and a DJ\, allowing everyone
  to unwind and connect with others in a festive atmosphere. 😊\n🌟 Why
  Attend? 🌟\n\n 	Discover harmony and tranquility amidst the demands of 
 everyday life.\n 	Alleviate stress while enhancing overall wellness.\n 	En
 gage with like-minded individuals in a peaceful setting\, fostering connec
 tions and community.\n 	Enhance self-care practices and establish mindful 
 intentions for the upcoming season.\n\nEsteemed practitioners will guide p
 articipants through this enriching experience\, ensuring a first-class imm
 ersion into holistic practices designed to foster reconnection and persona
 l growth. Don’t miss this opportunity to embrace the essence of fall whi
 le nurturing your well-being!\n\nGET TICKETS\n
ATTACH;FMTTYPE=image/jpeg:https://breathelosangeles.us/wp-content/uploads/
 2024/10/Fall-Wellness-Retreat.jpg
CATEGORIES:Retreats Events,Things To Do,Wellness Events
LOCATION:1010 Wilshire Blvd\, 1010 Wilshire Boulevard \, Los Angeles\, Cali
 fornia\, 90017\, CA\, United States
X-APPLE-STRUCTURED-LOCATION;VALUE=URI;X-ADDRESS=1010 Wilshire Boulevard \, 
 Los Angeles\, California\, 90017\, CA\, United States;X-APPLE-RADIUS=100;X
 -TITLE=1010 Wilshire Blvd:geo:0,0
END:VEVENT
BEGIN:VTIMEZONE
TZID:America/Los_Angeles
X-LIC-LOCATION:America/Los_Angeles
BEGIN:DAYLIGHT
DTSTART:20240310T030000
TZOFFSETFROM:-0800
TZOFFSETTO:-0700
TZNAME:PDT
END:DAYLIGHT
END:VTIMEZONE
END:VCALENDAR