BEGIN:VCALENDAR
VERSION:2.0
PRODID:-//wp-events-plugin.com//7.2.3.1//EN
BEGIN:VEVENT
UID:200@breathelosangeles.us
DTSTART;TZID=America/Los_Angeles:20240421T140000
DTEND;TZID=America/Los_Angeles:20240421T153000
DTSTAMP:20240404T171740Z
URL:https://breathelosangeles.us/events/family-yoga-with-one-down-dog/
SUMMARY:Family Yoga with One Down Dog
DESCRIPTION:Let's get down with the entire family! Bring your loved ones fo
 r a yoga Sunday Funday filled with joy and connection.\n\nEvent Informatio
 n:\n\nEvent Name: Family Yoga with One Down Dog\n\nHost: One Down Dog\n\nD
 ate and Time: Sunday\, April 21 • 2 - 3:30pm PDT\n\nLocation: One Down D
 og\, 2150 Colorado Boulevard\, Los Angeles\, CA 90041\, United States\n\nA
 bout this Event: Get ready to bond with your entire family during this yog
 a Sunday Funday!  for a playful and rejuvenating yoga session where famil
 ies can tune in\, connect\, and enjoy mindful movement together. All ages 
 are welcome to participate in this joyful and relaxing practice.\n\nWorkou
 t Session Detail: This event offers a 90-minute yoga session designed for 
 families to practice yoga together in a playful and mindful manner.\n\nEss
 ential for Bringing: Families should bring their own yoga mats and wear co
 mfortable clothing suitable for movement.\n\nParking Option: Parking is av
 ailable at the One Down Dog venue.\n\nTicket Information:\n\nGeneral Admis
 sion (Family of up to 4): $50.00\n\nAdditional Family Member Over 2 Years 
 of Age: $5.00\n\nGET TICKETS\n\n\nRefund Policy: Contact the organizer to 
 request a refund. Eventbrite's fee is nonrefundable.
ATTACH;FMTTYPE=image/jpeg:https://breathelosangeles.us/wp-content/uploads/
 2024/04/90909090909090909.jpg
CATEGORIES:Wellness Events,Yoga Events
LOCATION:One Down Dog\,   2150 Colorado Boulevard \, Los Angeles\,  \, Unit
 ed States\, 90041 \, CA\, United States
X-APPLE-STRUCTURED-LOCATION;VALUE=URI;X-ADDRESS=  2150 Colorado Boulevard \
 , Los Angeles\,  \, United States\, 90041 \, CA\, United States;X-APPLE-RA
 DIUS=100;X-TITLE=One Down Dog:geo:0,0
END:VEVENT
BEGIN:VTIMEZONE
TZID:America/Los_Angeles
X-LIC-LOCATION:America/Los_Angeles
BEGIN:DAYLIGHT
DTSTART:20240310T030000
TZOFFSETFROM:-0800
TZOFFSETTO:-0700
TZNAME:PDT
END:DAYLIGHT
END:VTIMEZONE
END:VCALENDAR