BEGIN:VCALENDAR
VERSION:2.0
PRODID:-//wp-events-plugin.com//7.2.3.1//EN
BEGIN:VEVENT
UID:416@breathelosangeles.us
DTSTART;TZID=America/Los_Angeles:20240823T073000
DTEND;TZID=America/Los_Angeles:20240823T220000
DTSTAMP:20240816T052140Z
URL:https://breathelosangeles.us/events/fireside-dance-party-singalong-sil
 ent-disco-banah-beachball/
SUMMARY:Fireside Dance Party: Singalong & Silent Disco! (Banah & Beachball)
DESCRIPTION:Get ready for a magical evening under the stars with the Firesi
 de Dance Party—a unique blend of live music\, singalong\, and silent dis
 co on the beautiful shores of Topanga Beach!\n\nEvent Details:\n\n 	Date &
 amp\; Time:\n\n 	Welcome: 7:30-8:15 PM\n 	Singalong Concert: 8:30-9:00 PM\
 n 	Silent Disco: 9:00-9:30 PM\n 	Social Closing: 9:30 PM\n\n\n\nLocation:\
 nTopanga Beach\n(Parking and meeting spot details are pictured below.)\n\n
 What to Expect:\nKick off the evening with a warm welcome and a chance to 
 connect with fellow beachgoers. As the sun sets\, gather around the bonfir
 e for an interactive singalong concert led by the talented Banah Winn\, wh
 ere everyone is encouraged to join in and let their voices harmonize with 
 the waves.\n\nThe night then takes a vibrant turn as DJ Beachball spins tu
 nes for a silent disco\, where you can dance under the stars with headphon
 es on\, immersed in your own musical world. Feel the sand between your toe
 s as you groove to the beats\, creating unforgettable memories by the sea.
 \n\nWhy You Should Join:\nThis event is more than just a beach gathering
 —it's a celebration of community\, music\, and the joy of dancing. Wheth
 er you’re singing along to your favorite tunes or dancing to the silent 
 disco\, this evening promises fun\, laughter\, and connection.\n\nImportan
 t Notes:\n\n 	Parking: Please refer to the parking information provided be
 low. After parking\, walk to the designated spot on the beach.\n 	What to 
 Bring: Come prepared for a beach evening—bring a blanket\, wear comforta
 ble shoes for dancing\, and don’t forget your best singing voice!\n\nJoi
 n us at Topanga Beach for a night of music\, dance\, and bonfire fun. We c
 an't wait to see you there!\n\nGET TICKETS\n
ATTACH;FMTTYPE=image/jpeg:https://breathelosangeles.us/wp-content/uploads/
 2024/08/Fireside-Dance-Party-Singalong-Silent-Disco-Banah-Beachball.jpg
CATEGORIES:Food &amp; Drink Events,Retreats Events,Things To Do,Wellness
 Events
LOCATION:70 Pacific Coast Hwy\, 70 Pacific Coast Highway Malibu\, Los Angel
 es\, California\, 90265\, CA\, United States
X-APPLE-STRUCTURED-LOCATION;VALUE=URI;X-ADDRESS=70 Pacific Coast Highway Ma
 libu\, Los Angeles\, California\, 90265\, CA\, United States;X-APPLE-RADIU
 S=100;X-TITLE=70 Pacific Coast Hwy:geo:0,0
END:VEVENT
BEGIN:VTIMEZONE
TZID:America/Los_Angeles
X-LIC-LOCATION:America/Los_Angeles
BEGIN:DAYLIGHT
DTSTART:20240310T030000
TZOFFSETFROM:-0800
TZOFFSETTO:-0700
TZNAME:PDT
END:DAYLIGHT
END:VTIMEZONE
END:VCALENDAR