BEGIN:VCALENDAR
VERSION:2.0
PRODID:-//wp-events-plugin.com//7.2.3.1//EN
BEGIN:VEVENT
UID:37@breathelosangeles.us
DTSTART;TZID=America/Los_Angeles:20240323T140000
DTEND;TZID=America/Los_Angeles:20240323T160000
DTSTAMP:20240323T105019Z
URL:https://breathelosangeles.us/events/foundations-of-good-health/
SUMMARY:Foundations of Good Health
DESCRIPTION:\n\n\n\n\n\n\n\n\n\n\n\n\n\n\n\n\n\n\n\n\n\n\n\n\nEmbark on a t
 ransformative journey to discover invaluable healthy lifestyle tips and el
 evate your overall wellness\, guided by the expertise of a Functional Heal
 th Coach. Join us as we delve into a realm of personalized insights and ac
 tionable strategies designed to enhance your well-being. Let this experien
 ce be your compass\, navigating the seas of well-rounded health and vitali
 ty. Embrace the wisdom of a Functional Health Coach and empower yourself t
 o make lasting positive changes on the path to a healthier and more fulfil
 ling life. Your journey to improved wellness begins here – let the knowl
 edge and guidance of our expert coach illuminate the way forward!\n\n\n\n\
 n\n\n\n\n\n\n\n\n\nEvent Information:\n\nEvent Name: Foundations of Good H
 ealth\n\nOrganizer: Restore Hyper Wellness Redondo Beach\n\nDuration: 2 ho
 urs\n\nType: Health and Wellness Seminar\n\nDate and Time:\n\nDate: Saturd
 ay\, March 23\, 2024\n\nTime: Starts at 2:00 PM PDT\n\nLocation:\n\nVenue:
  Restore Hyper Wellness\n\nAddress: 403 N Pacific Coast Highway\, Redondo 
 Beach\, CA 90277\, United States\n\nTicket Information:\n\nTicket Price: F
 REE\n\nTicket Type: Mobile eTicket\n\nGET TICKETS\n\nAbout This Event: Wel
 come to "Foundations of Good Health" presented by Restore Hyper Wellness R
 edondo Beach.On Saturday\, March 23\, 2024\, starting at 2:00 PM PDT at Re
 store Hyper Wellness. This event offers an unparalleled opportunity to del
 ve into the core principles of good health and well-being. Led by the expe
 rtise of Aubrey Christensen\, a distinguished Functional Health Coach\, at
 tendees will gain valuable insights into healthy lifestyle tips and strate
 gies to elevate overall wellness.\n\nDuring the two-hour session\, Restore
  Hyper Wellness is partnering with Aubrey Christensen to provide comprehen
 sive guidance on cultivating a healthier lifestyle. Participants will have
  the chance to explore various aspects of wellness\, from mindset to nutri
 tion\, and receive actionable tips for improving overall health.\n\nAs a s
 pecial bonus\, all attendees will be treated to FREE Core services\, inclu
 ding Cryotherapy\, Compression Therapy\, and Red Light Therapy during the 
 event. Immerse yourself in a rejuvenating experience that combines knowled
 ge-sharing with practical wellness applications.\n\nEssentials to Bring:\n
 \nA positive attitude and an eagerness to learn about health and wellness.
 \n\nParking Options:\n\nLimited on-site parking is available at Restore Hy
 per Wellness.\n\nConsider carpooling or using public transportation for a 
 sustainable commute.\n\n&nbsp\;\n\n\n\n\n\n\n\n\n\n\n\n\n
ATTACH;FMTTYPE=image/jpeg:https://breathelosangeles.us/wp-content/uploads/
 2024/03/https___cdn.evbuc_.com_images_703326429_1006879803473_1_original.j
 pg
CATEGORIES:Wellness Events
LOCATION:Restore Hyper Wellness\, 403 N Pacific Coast Highway Redondo Beach
 \, CA 90277 United States\, CA\, UNITED STATES\, 90277\, CA\, United State
 s
X-APPLE-STRUCTURED-LOCATION;VALUE=URI;X-ADDRESS=403 N Pacific Coast Highway
  Redondo Beach\, CA 90277 United States\, CA\, UNITED STATES\, 90277\, CA\
 , United States;X-APPLE-RADIUS=100;X-TITLE=Restore Hyper Wellness:geo:0,0
END:VEVENT
BEGIN:VTIMEZONE
TZID:America/Los_Angeles
X-LIC-LOCATION:America/Los_Angeles
BEGIN:DAYLIGHT
DTSTART:20240310T030000
TZOFFSETFROM:-0800
TZOFFSETTO:-0700
TZNAME:PDT
END:DAYLIGHT
END:VTIMEZONE
END:VCALENDAR