BEGIN:VCALENDAR
VERSION:2.0
PRODID:-//wp-events-plugin.com//7.2.3.1//EN
BEGIN:VEVENT
UID:541@breathelosangeles.us
DTSTART;TZID=America/Los_Angeles:20240907T190000
DTEND;TZID=America/Los_Angeles:20241103T235900
DTSTAMP:20240928T083911Z
URL:https://breathelosangeles.us/events/freight-fest-extreme/
SUMMARY:Freight Fest Extreme
DESCRIPTION:Step into a realm where terror reigns supreme at Fright Fest Ex
 treme\, the largest haunted attraction in California. This spine-chilling 
 event invites brave souls to confront their deepest fears within a meticul
 ously crafted landscape of horror.\n\nAs guests enter this nightmarish wor
 ld\, they will encounter 11 haunted houses\, each uniquely designed to tra
 nsport them into various realms of fright. From eerie mansions filled with
  restless spirits to nightmarish landscapes teeming with terrifying creatu
 res\, every house presents a fresh wave of thrills and chills. Each haunte
 d house is infused with intricate details\, ensuring a fully immersive exp
 erience that keeps visitors on the edge of their seats.\n\nIn addition to 
 the haunted houses\, 9 scare zones scattered throughout the event create a
 n atmosphere of suspense and unease. Here\, unexpected frights lurk around
  every corner\, with actors in chilling costumes and meticulously crafted 
 props designed to elicit screams and gasps. The scare zones are strategica
 lly placed to maximize tension\, ensuring that there is never a dull momen
 t as guests navigate through the night.\n\nFright Fest Extreme promises an
  unforgettable experience for thrill-seekers and horror enthusiasts alike.
  Whether confronting fear head-on in the haunted houses or braving the sca
 re zones\, every moment is designed to push the limits of courage. For tho
 se who seek an adrenaline rush and a taste of true horror\, Fright Fest Ex
 treme is the ultimate destination this Halloween season.\n\nGET TICKETS\n
ATTACH;FMTTYPE=image/jpeg:https://breathelosangeles.us/wp-content/uploads/
 2024/09/Screenshot-2024-09-28-143234.png
CATEGORIES:Things To Do
LOCATION:Six Flags Magic Mountain\, 26101 Magic Mountain Pkwy\, Los Angeles
 \, California\, 90027\, CA\, United States
X-APPLE-STRUCTURED-LOCATION;VALUE=URI;X-ADDRESS=26101 Magic Mountain Pkwy\,
  Los Angeles\, California\, 90027\, CA\, United States;X-APPLE-RADIUS=100;
 X-TITLE=Six Flags Magic Mountain:geo:0,0
END:VEVENT
BEGIN:VTIMEZONE
TZID:America/Los_Angeles
X-LIC-LOCATION:America/Los_Angeles
BEGIN:DAYLIGHT
DTSTART:20240310T030000
TZOFFSETFROM:-0800
TZOFFSETTO:-0700
TZNAME:PDT
END:DAYLIGHT
BEGIN:STANDARD
DTSTART:20241103T010000
TZOFFSETFROM:-0700
TZOFFSETTO:-0800
TZNAME:PST
END:STANDARD
END:VTIMEZONE
END:VCALENDAR