BEGIN:VCALENDAR
VERSION:2.0
PRODID:-//wp-events-plugin.com//7.2.3.1//EN
BEGIN:VEVENT
UID:530@breathelosangeles.us
DTSTART;TZID=America/Los_Angeles:20240928T130000
DTEND;TZID=America/Los_Angeles:20240928T160000
DTSTAMP:20240918T095135Z
URL:https://breathelosangeles.us/events/fruitful-wellness-center-presents-
 breathe-him-in-2/
SUMMARY:Fruitful Wellness Center presents "Breathe Him In"
DESCRIPTION:Fruitful Wellness Center invites you to a transformative event 
 designed to foster new friendships and engage in enriching wellness activi
 ties.\n\nAbout the Stretching Class: The "Breathe Him In" stretching class
  is a unique Christian-centered experience where participants will seek tr
 anquility and spiritual connection through intentional stretching. Guided 
 by the principles of faith in the Lord Jesus Christ\, this class aims to b
 ring peace\, stillness\, and rest by aligning the mind\, body\, and soul w
 ith divine grace.\n\nIn this class\, attendees will learn to surrender the
 ir anxieties and immerse themselves in God's presence\, recognizing His ca
 re in every aspect of life. The stretching exercises are thoughtfully desi
 gned not just to improve physical flexibility but to nurture spiritual wel
 l-being.\n\nWhat to Expect:\n\n 	Spiritual Enrichment: The class will inco
 rporate affirmations and life-affirming words\, fostering a positive and u
 plifting environment.\n 	Connection and Support: Participants will have op
 portunities to connect deeply\, build each other up\, and support one anot
 her’s spiritual journeys.\n 	Journaling: There will be moments dedicated
  to journaling personal reflections\, prayers\, and feelings\, enhancing s
 elf-awareness and spiritual growth.\n 	Holistic Benefits: Stretching has b
 een shown to boost energy levels\, improve mental health\, and calm the mi
 nd. This class combines these benefits with spiritual practices to promote
  overall wellness.\n\nJoin us for a unique blending of physical exercise a
 nd spiritual enrichment. Experience how stretching\, combined with faith a
 nd community\, can bring healing and renewed energy to your life. We look 
 forward to sharing this special time of stretching and spiritual growth wi
 th you.\n\nGET TICKETS\n
ATTACH;FMTTYPE=image/jpeg:https://breathelosangeles.us/wp-content/uploads/
 2024/09/Fruitful-Wellness-Center-presents-Breathe-Him-In.jpg
CATEGORIES:Things To Do,Wellness Events
LOCATION:1597 Yosemite Dr\, 1597 Yosemite Drive \, 1597 Yosemite Drive Los 
 Angeles\, Los Angeles\, 90041\, CA\, United States
X-APPLE-STRUCTURED-LOCATION;VALUE=URI;X-ADDRESS=1597 Yosemite Drive \, 1597
  Yosemite Drive Los Angeles\, Los Angeles\, 90041\, CA\, United States;X-A
 PPLE-RADIUS=100;X-TITLE=1597 Yosemite Dr:geo:0,0
END:VEVENT
BEGIN:VTIMEZONE
TZID:America/Los_Angeles
X-LIC-LOCATION:America/Los_Angeles
BEGIN:DAYLIGHT
DTSTART:20240310T030000
TZOFFSETFROM:-0800
TZOFFSETTO:-0700
TZNAME:PDT
END:DAYLIGHT
END:VTIMEZONE
END:VCALENDAR