BEGIN:VCALENDAR
VERSION:2.0
PRODID:-//wp-events-plugin.com//7.2.3.1//EN
BEGIN:VEVENT
UID:304@breathelosangeles.us
DTSTART;TZID=America/Los_Angeles:20240618T183000
DTEND;TZID=America/Los_Angeles:20240618T200000
DTSTAMP:20240610T113854Z
URL:https://breathelosangeles.us/events/full-moon-in-capricorn-yoga-astrol
 ogy-workshop/
SUMMARY:Full Moon in Capricorn Yoga + Astrology Workshop
DESCRIPTION:\n\n\n\nEngage in Soft Body Studio's exclusive Full Moon in Cap
 ricorn Workshop on Tuesday\, June 18th\, from 6:30 to 8 pm. This workshop 
 offers a unique blend of gentle yoga\, breath work\, and astrology insight
 s tailored to the significance of the Capricorn full moon.\n\n\n\n\n\n\n\n
 \n\n\n\nDuring the session\, participants will ground themselves with calm
 ing breath work and gentle yoga practices\, allowing them to connect deepl
 y with the energy of the full moon. The workshop will also delve into the 
 astrological nuances of the Capricorn full moon\, helping attendees unders
 tand how it influences their personal birth charts and what lessons it may
  hold for them.\n\nCapricorn\, known for its themes of maturity and wisdom
 \, symbolizes the culmination of hard-earned lessons and life experiences.
  This full moon presents an opportunity to reflect on the past\, draw wisd
 om from challenges\, and step into one's own authority and authenticity.\n
 \nDiscover how the cosmic alignment of the full moon in Capricorn can guid
 e you on your path towards growth\, maturity\, and self-realization. Don't
  miss this transformative workshop to align your energy with the powerful 
 lunar influences and gain insights into your personal journey.\n\nGET TICK
 ETS\n\n\n\n\n\n\n
ATTACH;FMTTYPE=image/jpeg:https://breathelosangeles.us/wp-content/uploads/
 2024/06/Full-Moon-in-Capricorn-Yoga-Astrology-Workshop.jpg
CATEGORIES:Wellness Events,Yoga Events
LOCATION:4214 Effie St\, 4214 Effie Street \, Los Angeles\, California\, 90
 029\, CA\, United States
X-APPLE-STRUCTURED-LOCATION;VALUE=URI;X-ADDRESS=4214 Effie Street \, Los An
 geles\, California\, 90029\, CA\, United States;X-APPLE-RADIUS=100;X-TITLE
 =4214 Effie St:geo:0,0
END:VEVENT
BEGIN:VTIMEZONE
TZID:America/Los_Angeles
X-LIC-LOCATION:America/Los_Angeles
BEGIN:DAYLIGHT
DTSTART:20240310T030000
TZOFFSETFROM:-0800
TZOFFSETTO:-0700
TZNAME:PDT
END:DAYLIGHT
END:VTIMEZONE
END:VCALENDAR