BEGIN:VCALENDAR
VERSION:2.0
PRODID:-//wp-events-plugin.com//7.2.3.1//EN
BEGIN:VEVENT
UID:398@breathelosangeles.us
DTSTART;TZID=America/Los_Angeles:20240817T180000
DTEND;TZID=America/Los_Angeles:20240817T210000
DTSTAMP:20240815T053233Z
URL:https://breathelosangeles.us/events/full-moon-sacred-feminine-circle/
SUMMARY:full moon sacred feminine circle
DESCRIPTION:Welcome to Sol Flow\, a transformative activation of the sacred
  divine feminine. This enriching series is designed for women to reconnect
  with their innermost selves and forge deeper bonds with one another. Thro
 ugh our divine feminine circles and retreats\, Sol Flow creates a sanctifi
 ed space where women can illuminate their inner light\, honor their intuit
 ive wisdom\, and celebrate their unique gifts.\n\nIn the days leading up t
 o the full moon\, we invite you to join us in honoring the divine feminine
  within ourselves and each other. This sacred gathering will focus on conn
 ecting deeply with our womb\, heart\, and throat\, moving away from the co
 nstant noise of our minds to embrace our true essence.\n\nOur circle provi
 des a retreat to our sacred inner space—a place of comfort and serenity 
 amidst life's chaos. It is here that we return to our authentic selves\, u
 ntouched by external wounds\, and find solace and strength in our inner li
 ght.\n\nAs we approach this transformative full moon\, we are called to bi
 rth new creations and elevate our consciousness. This period of change oft
 en brings challenges and revelations that anchor us into a new reality. In
  these times of transition\, it's crucial to connect\, find support\, and 
 remember our inherent strength. Our collective bond has the power to heal\
 , ground\, and transform us.\nThe Sacred Interconnectedness of the Womb\, 
 Heart\, and Throat\nThe womb\, heart\, and throat embody a profound triad 
 of feminine power\, each center contributing to our holistic well-being an
 d spiritual journey. Their interconnectedness represents a dance of creati
 on\, expression\, and love that influences our deepest experiences and hig
 hest aspirations.\n\nDuring our circle\, we will harmonize these three cen
 ters to cultivate a powerful sense of alignment and wholeness. By nurturin
 g our creative expressions with love\, communicating with authenticity\, a
 nd manifesting our desires with intention\, we will experience a profound 
 integration of our feminine essence.\n\nJoin us in this sacred circle as w
 e explore and celebrate the divine feminine\, nurturing our connection to 
 our inner selves and to one another.\n\nGET TICKETS\n
ATTACH;FMTTYPE=image/jpeg:https://breathelosangeles.us/wp-content/uploads/
 2024/08/full-moon-sacred-feminine-circle.jpg
CATEGORIES:Mindfulness Events,Things To Do,Wellness Events
LOCATION:Moon Sanctuary\, 3781 Valleybrink Road\, Los Angeles\, California\
 , 90039\, CA\, United States
X-APPLE-STRUCTURED-LOCATION;VALUE=URI;X-ADDRESS=3781 Valleybrink Road\, Los
  Angeles\, California\, 90039\, CA\, United States;X-APPLE-RADIUS=100;X-TI
 TLE=Moon Sanctuary:geo:0,0
END:VEVENT
BEGIN:VTIMEZONE
TZID:America/Los_Angeles
X-LIC-LOCATION:America/Los_Angeles
BEGIN:DAYLIGHT
DTSTART:20240310T030000
TZOFFSETFROM:-0800
TZOFFSETTO:-0700
TZNAME:PDT
END:DAYLIGHT
END:VTIMEZONE
END:VCALENDAR