BEGIN:VCALENDAR
VERSION:2.0
PRODID:-//wp-events-plugin.com//7.2.3.1//EN
BEGIN:VEVENT
UID:718@breathelosangeles.us
DTSTART;TZID=America/Los_Angeles:20241020T193000
DTEND;TZID=America/Los_Angeles:20241020T203000
DTSTAMP:20241015T094501Z
URL:https://breathelosangeles.us/events/full-moon-sound-bath-2/
SUMMARY:Full Moon Sound Bath
DESCRIPTION:Embrace the magic within and join us for a Halloween-inspired F
 ull Moon Sound Bath—an enchanting evening of spiritual renewal. This tra
 nsformative hour-long experience invites you to tap into your inner witch 
 through a cauldron ceremony\, breathwork\, and a deeply immersive sound ba
 th designed to help release what no longer serves you.\n\nAs you awaken yo
 ur spiritual energy\, you'll nurture self-love\, elevate your authentic se
 lf\, and step into the vast potential that lies within. This experience of
 fers a chance to reconnect with your innate magic\, reminding you of your 
 power and purpose.\n\nEvent Details:\n\n 	Date: Sunday\, October 20th\n 	L
 ocation: A private setting in Beverly Hills (address and parking details w
 ill be shared upon ticket purchase).\n 	Doors Open: 7:10 PM\n 	Sound Bath 
 Begins: 7:30 PM\n 	Sound Bath Ends: 8:30 PM\n\nNo prior experience is requ
 ired\; the beauty of sound baths is that they welcome individuals from all
  walks of life\, no matter where they are on their journey. Whether you're
  seeking relaxation\, emotional release\, or spiritual alignment\, this so
 und bath will guide you in letting go\, recharging\, and stepping into a n
 ew chapter with clarity and intention.\n\nCome immerse yourself in this my
 stical evening\, recharge your energy\, and embrace your magical potential
 .\n\nGET TICKETS\n
ATTACH;FMTTYPE=image/jpeg:https://breathelosangeles.us/wp-content/uploads/
 2024/10/Full-Moon-Sound-Bath.jpg
CATEGORIES:Things To Do,Wellness Events
END:VEVENT
BEGIN:VTIMEZONE
TZID:America/Los_Angeles
X-LIC-LOCATION:America/Los_Angeles
BEGIN:DAYLIGHT
DTSTART:20240310T030000
TZOFFSETFROM:-0800
TZOFFSETTO:-0700
TZNAME:PDT
END:DAYLIGHT
END:VTIMEZONE
END:VCALENDAR