BEGIN:VCALENDAR
VERSION:2.0
PRODID:-//wp-events-plugin.com//7.2.3.1//EN
BEGIN:VEVENT
UID:475@breathelosangeles.us
DTSTART;TZID=America/Los_Angeles:20240922T150000
DTEND;TZID=America/Los_Angeles:20240922T160000
DTSTAMP:20240907T075211Z
URL:https://breathelosangeles.us/events/get-out-of-your-head/
SUMMARY:Get Out Of Your Head
DESCRIPTION:Step into a world of tranquility with "Get Out Of Your Head: A 
 Soundbath for Overthinkers\," hosted at Club Joyful. This special event is
  designed for those who find themselves entangled in a whirlwind of though
 ts and mental clutter. It offers a serene sanctuary where participants can
  release the grip of incessant overthinking and reconnect with a sense of 
 inner peace.\n\nAt this unique gathering\, attendees will experience the t
 herapeutic power of sound healing. The soundbath features soothing vibrati
 ons that help calm the mind\, ease tension\, and facilitate a deep state o
 f relaxation. As you immerse yourself in the harmonious sounds\, you'll ha
 ve the opportunity to let go of mental noise and achieve clarity.\n\nJoin 
 us for this rejuvenating session and give yourself the gift of a mental re
 set. Don’t miss out on this chance to find stillness and balance amidst 
 the chaos of daily life. Secure your spot today and embark on a journey to
 wards a quieter\, more centered state of being.\n\nGET TICKETS\n
ATTACH;FMTTYPE=image/jpeg:https://breathelosangeles.us/wp-content/uploads/
 2024/09/Get-Out-Of-Your-Head.jpg
CATEGORIES:Mindfulness Events,Things To Do,Wellness Events
LOCATION:Club Joyful\, 2121 Lincoln Boulevard\, Los Angeles\, California\, 
 90291\, CA\, United States
X-APPLE-STRUCTURED-LOCATION;VALUE=URI;X-ADDRESS=2121 Lincoln Boulevard\, Lo
 s Angeles\, California\, 90291\, CA\, United States;X-APPLE-RADIUS=100;X-T
 ITLE=Club Joyful:geo:0,0
END:VEVENT
BEGIN:VTIMEZONE
TZID:America/Los_Angeles
X-LIC-LOCATION:America/Los_Angeles
BEGIN:DAYLIGHT
DTSTART:20240310T030000
TZOFFSETFROM:-0800
TZOFFSETTO:-0700
TZNAME:PDT
END:DAYLIGHT
END:VTIMEZONE
END:VCALENDAR