BEGIN:VCALENDAR
VERSION:2.0
PRODID:-//wp-events-plugin.com//7.2.3.1//EN
BEGIN:VEVENT
UID:266@breathelosangeles.us
DTSTART;TZID=America/Los_Angeles:20240518T100000
DTEND;TZID=America/Los_Angeles:20240518T150000
DTSTAMP:20240507T184520Z
URL:https://breathelosangeles.us/events/ginhawa-health-and-wellness/
SUMMARY:Join Us for the *Ginhawa* Health and Wellness Resource Fair
DESCRIPTION:\nCelebrate Health &amp\; Heritage at the Ginhawa Health Fair!\
 nJoin a Vibrant Celebration of Well-being in Honor of Mental Health Awaren
 ess Month &amp\; AAPID Heritage Month!\nMark your calendars for the Ginhaw
 a Health Fair happening this May 2024! This event\, held at the First Cong
 regational Church of Los Angeles on South Commonwealth Avenue\, promises a
  day dedicated to fostering health and wellness within the Asian American\
 , Pacific Islander Desi (AAPID) community.\nA Day Filled with Fun &amp\; R
 esources:\n\n\n 	Light Refreshments &amp\; Music: Enjoy delicious treats a
 nd vibrant music that sets the perfect tone for a day of community and wel
 l-being.\n 	Pop-Up Preventative Care Clinic: Access preventative health sc
 reenings and receive valuable information on maintaining optimal physical 
 health.\n 	Engaging Games with Prizes: Test your knowledge and have fun wi
 th interactive games\, with exciting prizes to be won!\n 	**Resource Hub: 
 **Connect with a multitude of local social service organizations tabling a
 t the event. Explore resources designed to support your physical\, emotion
 al\, relational\, and spiritual well-being.\n\nCelebrating Community &amp\
 ; Heritage:\nThe Ginhawa Health Fair goes beyond individual well-being. It
 's a celebration of the rich heritage and diverse cultures within the AAPI
 D community. Come together with your friends and family for a day of conne
 ction\, learning\, and shared experiences.\nDon't Miss Out!\nThe Ginhawa H
 ealth Fair offers a unique opportunity to prioritize your well-being\, dis
 cover valuable resources\, and celebrate your heritage within a supportive
  community. See you there!\nHashtags:\n#GinhawaHealthFair #MentalHealthAwa
 reness #AAPIDHeritageMonth #CommunityWellness #LosAngeles\n\n\n\nBOOK SPOT
 S\n
ATTACH;FMTTYPE=image/jpeg:https://breathelosangeles.us/wp-content/uploads/
 2024/05/https___cdn.evbuc_.com_images_702660259_2022342661683_1_original.j
 peg
CATEGORIES:Wellness Events
LOCATION:First Congregational Church of Los Angeles\, 540 South Commonwealt
 h Avenue\, Los Angeles\, CA 90020\, United States\, United States\, United
  States\,  90020\, CA\, United States
X-APPLE-STRUCTURED-LOCATION;VALUE=URI;X-ADDRESS=540 South Commonwealth Aven
 ue\, Los Angeles\, CA 90020\, United States\, United States\, United State
 s\,  90020\, CA\, United States;X-APPLE-RADIUS=100;X-TITLE=First Congregat
 ional Church of Los Angeles:geo:0,0
END:VEVENT
BEGIN:VTIMEZONE
TZID:America/Los_Angeles
X-LIC-LOCATION:America/Los_Angeles
BEGIN:DAYLIGHT
DTSTART:20240310T030000
TZOFFSETFROM:-0800
TZOFFSETTO:-0700
TZNAME:PDT
END:DAYLIGHT
END:VTIMEZONE
END:VCALENDAR