BEGIN:VCALENDAR
VERSION:2.0
PRODID:-//wp-events-plugin.com//7.2.3.1//EN
BEGIN:VEVENT
UID:474@breathelosangeles.us
DTSTART;TZID=America/Los_Angeles:20240920T140000
DTEND;TZID=America/Los_Angeles:20240920T210000
DTSTAMP:20240907T074701Z
URL:https://breathelosangeles.us/events/global-asian-moon-fest-live-perfor
 mances-music-wellness-food/
SUMMARY:Global Asian Moon Fest - Live Performances\, Music\, Wellness\, Foo
 d
DESCRIPTION:The Global Asian Moon Fest is set to take place at the renowned
  Autry Museum of the American West\, promising an enchanting evening under
  the moonlit sky. This vibrant event invites attendees to immerse themselv
 es in the diverse and rich traditions of Asian culture through a captivati
 ng lineup of live performances\, musical acts\, and wellness activities.\n
 \nGuests can enjoy a wide range of experiences designed to celebrate and c
 onnect communities. From engaging cultural performances and soothing welln
 ess practices to indulging in a selection of delicious Asian cuisine\, thi
 s festival offers something for everyone.\n\nThe event is a tribute to the
  beauty of cultural diversity and the spirit of community. It provides a u
 nique opportunity to explore\, celebrate\, and engage with the many facets
  of Asian heritage while enjoying a festive atmosphere.\n\nDon’t miss th
 is chance to be part of a memorable celebration. Secure your tickets now a
 nd join us for an unforgettable night of culture\, music\, and community a
 t the Global Asian Moon Fest!\n\nGET TICKETS\n
ATTACH;FMTTYPE=image/jpeg:https://breathelosangeles.us/wp-content/uploads/
 2024/09/Global-Asian-Moon-Fest-Live-Performances-Music-Wellness-Food.jpg
CATEGORIES:Mindfulness Events,Things To Do,Wellness Events
LOCATION:Autry Museum of the American West\, 4700 Western Heritage Way\, Lo
 s Angeles\, California\, 90027\, CA\, United States
X-APPLE-STRUCTURED-LOCATION;VALUE=URI;X-ADDRESS=4700 Western Heritage Way\,
  Los Angeles\, California\, 90027\, CA\, United States;X-APPLE-RADIUS=100;
 X-TITLE=Autry Museum of the American West:geo:0,0
END:VEVENT
BEGIN:VTIMEZONE
TZID:America/Los_Angeles
X-LIC-LOCATION:America/Los_Angeles
BEGIN:DAYLIGHT
DTSTART:20240310T030000
TZOFFSETFROM:-0800
TZOFFSETTO:-0700
TZNAME:PDT
END:DAYLIGHT
END:VTIMEZONE
END:VCALENDAR