BEGIN:VCALENDAR
VERSION:2.0
PRODID:-//wp-events-plugin.com//7.2.3.1//EN
BEGIN:VEVENT
UID:345@breathelosangeles.us
DTSTART;TZID=America/Los_Angeles:20240714T090000
DTEND;TZID=America/Los_Angeles:20240714T103000
DTSTAMP:20240911T114229Z
URL:https://breathelosangeles.us/events/goat-yoga-in-the-park/
SUMMARY:Goat Yoga in the Park
DESCRIPTION:Laughing Frog Yoga invites you to experience the latest craze s
 weeping Los Angeles: Goat Yoga! As the exclusive yoga studio offering this
  unique experience in the city\, we're thrilled to introduce you to our tw
 o adorable baby goats who are eager to join you on the mat.\n\nAbout Goat 
 Yoga: Imagine a yoga session where playful baby goats roam freely\, adding
  an element of joy and spontaneity to your practice. Goat Yoga is not just
  about stretching and breathing\; it's about connecting with nature\, find
 ing laughter in unexpected moments\, and embracing the playful energy of t
 hese gentle animals.\n\nWhy Attend?\n\nWhether you're a yoga enthusiast lo
 oking to try something new or an animal lover seeking a unique bonding exp
 erience\, Goat Yoga at Laughing Frog Yoga promises an unforgettable time. 
 Relax\, rejuvenate\, and laugh as you practice yoga surrounded by the curi
 ous antics of our adorable goats.\n\nJoin Us: Don't miss out on this oppor
 tunity to indulge in a one-of-a-kind yoga experience in the serene surroun
 dings of our yoga studio. Reserve your spot today and prepare to unwind\, 
 laugh\, and connect with nature through Goat Yoga at Laughing Frog Yoga.\n
 \nGET TICKETS\n
ATTACH;FMTTYPE=image/jpeg:https://breathelosangeles.us/wp-content/uploads/
 2024/06/Goat-Yoga-in-the-Park.jpg
CATEGORIES:Mindfulness Events,Nature Events,Things To Do,Wellness
 Events,Yoga Events
LOCATION:Marine Park (Next to the Tennis Courts)\, 1406 Marine St Santa Mon
 ica\, Los Angeles\, California\, 90405\, CA\, United States
X-APPLE-STRUCTURED-LOCATION;VALUE=URI;X-ADDRESS=1406 Marine St Santa Monica
 \, Los Angeles\, California\, 90405\, CA\, United States;X-APPLE-RADIUS=10
 0;X-TITLE=Marine Park (Next to the Tennis Courts):geo:0,0
END:VEVENT
BEGIN:VTIMEZONE
TZID:America/Los_Angeles
X-LIC-LOCATION:America/Los_Angeles
BEGIN:DAYLIGHT
DTSTART:20240310T030000
TZOFFSETFROM:-0800
TZOFFSETTO:-0700
TZNAME:PDT
END:DAYLIGHT
END:VTIMEZONE
END:VCALENDAR