BEGIN:VCALENDAR
VERSION:2.0
PRODID:-//wp-events-plugin.com//7.2.3.1//EN
BEGIN:VEVENT
UID:761@breathelosangeles.us
DTSTART;TZID=America/Los_Angeles:20241110T160000
DTEND;TZID=America/Los_Angeles:20241110T171500
DTSTAMP:20241018T030435Z
URL:https://breathelosangeles.us/events/goats-and-sheep-snuggle-party-and-
 sound-bath-in-the-park/
SUMMARY:Goats and Sheep Snuggle Party and Sound Bath in the Park
DESCRIPTION:Immerse yourself in a unique and heartwarming experience with a
  Goat and Sheep Snuggle Party\, followed by a Sunset Sound Bath in the ser
 ene outdoors of Van Nuys. This special event\, taking place on Sunday\, No
 vember 10\, from 4:00 PM to 5:15 PM\, promises a delightful blend of laugh
 ter\, playfulness\, relaxation\, and healing through the therapeutic energ
 ies of nature\, animals\, and sound. The exact location will be shared wit
 h registered attendees.\n\nWhat to Expect:\n\n 	Cuddle Time: Mingle and in
 teract with an adorable crew of goats and sheep. You’ll have ample time 
 to feed them\, take photos\, engage in playful yoga poses\, and even let t
 hem run through your legs in fun games. This bonding experience helps part
 icipants connect with their inner child and release stress\, leaving every
 one feeling joyful and uplifted.\n 	Sunset Sound Bath: As the sun begins t
 o set\, you’ll lie down for a calming sound bath while cuddling with goa
 ts and sheep\, creating a peaceful atmosphere. This soothing session\, set
  in the “Golden Hour\,” allows you to feel their nurturing energy whil
 e absorbing the healing vibrations of the sound bath\, promoting relaxatio
 n and emotional well-being.\n 	Final Moments: After the sound bath\, there
  will be time for final group photos and fond goodbyes with the animals.\n
 \nWho Can Attend:\nThe event is open to participants aged 16 and above. An
 yone under 21 must be accompanied by a guardian\, and signed waivers are r
 equired for all attendees (minors must have their waiver signed by an adul
 t).\n\nRegistration &amp\; Tickets:\n\n 	Early Bird Tickets: $55 for 1 per
 son or $50 each for 2 people (ends Nov 1 at midnight).\n 	Late Registratio
 n (from Nov 1): $60 for 1 person or $55 each for 2 people\, if spots are s
 till available.\nPlease note that pre-registration is required\, and no sa
 me-day tickets or walk-ins will be accepted. Limited spots are available\,
  so it’s recommended to register early.\nVenmo Payment Option is availab
 le to avoid Eventbrite fees. Contact Kirsten at kirsten@kirstenkorotintern
 ational.com for more information.\n\nImportant Details:\n\n 	Check-in begi
 ns at 3:40 PM (no earlier\, as setup will be ongoing).\n 	The event starts
  promptly at 4:00 PM. Late arrivals will not be permitted\, as it disrupts
  the flow of introducing the animals to the group.\n 	Free parking is avai
 lable on residential streets near the location\, but please allow extra ti
 me to park and walk to the meeting spot.\n 	Note that there are no restroo
 m facilities at the outdoor venue.\n\nThings to Bring:\n\n 	Yoga mat\, bla
 nket\, sleeping bag\, or pillow to create a cozy space for the sound bath.
 \n 	Water to stay hydrated.\n 	Dress comfortably and bring layers\, as the
  temperature may drop at sunset. Closed-toe shoes are recommended.\n 	Avoi
 d wearing dangling jewelry or loose items\, as goats may try to nibble on 
 them. Long hair should be tied up\, as goats enjoy chewing on hair!\n\nLia
 bility Waiver:\nEach attendee must sign a liability waiver. Minors must be
  accompanied by an adult who will sign their waiver. If you need to transf
 er your ticket to someone else\, notify the organizer at least 48 hours be
 fore the event with the new attendee’s details.\n\nCancellation &amp\; R
 efund Policy:\nDue to limited spots and the intimate nature of the event\,
  no refunds or credits are offered. In case of rescheduling due to unfores
 een circumstances\, tickets will be transferred to the new date.\n\nFor an
 y questions or concerns\, contact Kirsten at kirsten@kirstenkorotinternati
 onal.com. Don’t miss out on this one-of-a-kind experience that blends an
 imal interaction\, fun\, and deep relaxation in nature!\n\nGET TICKETS\n
ATTACH;FMTTYPE=image/jpeg:https://breathelosangeles.us/wp-content/uploads/
 2024/10/Goats-and-Sheep-Snuggle-Party-and-Sound-Bath-in-the-Park.jpg
CATEGORIES:Wellness Events
LOCATION:Van Nuys\, PRIVATE LOCATION Van Nuys\, Los Angeles\, California\, 
 91436\, CA\, United States
X-APPLE-STRUCTURED-LOCATION;VALUE=URI;X-ADDRESS=PRIVATE LOCATION Van Nuys\,
  Los Angeles\, California\, 91436\, CA\, United States;X-APPLE-RADIUS=100;
 X-TITLE=Van Nuys:geo:0,0
END:VEVENT
BEGIN:VTIMEZONE
TZID:America/Los_Angeles
X-LIC-LOCATION:America/Los_Angeles
BEGIN:STANDARD
DTSTART:20241103T010000
TZOFFSETFROM:-0700
TZOFFSETTO:-0800
TZNAME:PST
END:STANDARD
END:VTIMEZONE
END:VCALENDAR