BEGIN:VCALENDAR
VERSION:2.0
PRODID:-//wp-events-plugin.com//7.2.3.1//EN
BEGIN:VEVENT
UID:686@breathelosangeles.us
DTSTART;TZID=America/Los_Angeles:20241031T180000
DTEND;TZID=America/Los_Angeles:20241031T190000
DTSTAMP:20241005T172213Z
URL:https://breathelosangeles.us/events/guided-energy-meditation/
SUMMARY:Guided Energy Meditation
DESCRIPTION:Prepare for an uplifting and transformative Guided Energy Medit
 ation that invites participants to relax and rejuvenate.\n\n🌟 This expe
 rience is designed entirely for you. Kick off your shoes\, wrap yourself i
 n a cozy blanket\, and create a comfortable space that feels like a warm e
 mbrace. Before you begin\, take a moment to sip some water\, then immerse 
 yourself in the journey ahead. 💧\n\nParticipants will center themselves
  in the heart chakra\, allowing them to ask their most pressing questions 
 and witness their unique journey unfold. Guided by Divine Energy\, the med
 itation encourages relaxation and presence\, leading everyone through a wh
 imsical exploration enhanced by prompts\, breathwork\, and energy flow. 
 🌈✨\n\nThe process is straightforward—simply remain open to receivin
 g the energy and insights offered. Whether participants choose to lounge o
 n yoga mats or relax in comfortable chairs\, both options ensure total com
 fort for the body\, mind\, and spirit. 🧘‍♀️🪑\n\nDuring this en
 riching experience\, individuals may encounter powerful shifts that libera
 te them from mental constraints. Themes of harmony\, understanding\, love\
 , and release are just the beginning of what awaits. The healing energy co
 ntinues to work its magic for approximately ten days\, providing clarity\,
  relaxation\, and alignment with one’s true desires. 🌌🌠Everyone is
  warmly invited to partake in this compassionate session—an expression o
 f gratitude and love from the facilitator. Allow this enchanting journey t
 o guide you toward deeper self-awareness and transformation. 💖🌟\n\nG
 ET TICKETS\n\n&nbsp\;
ATTACH;FMTTYPE=image/jpeg:https://breathelosangeles.us/wp-content/uploads/
 2024/10/Guided-Energy-Meditation.jpeg
CATEGORIES:Wellness Events
LOCATION:BOTI Studios\, 607 South Harbor Boulevard Anaheim\, Anaheim\, Cali
 fornia\, 92805\, CA\, United States
X-APPLE-STRUCTURED-LOCATION;VALUE=URI;X-ADDRESS=607 South Harbor Boulevard 
 Anaheim\, Anaheim\, California\, 92805\, CA\, United States;X-APPLE-RADIUS
 =100;X-TITLE=BOTI Studios:geo:0,0
END:VEVENT
BEGIN:VTIMEZONE
TZID:America/Los_Angeles
X-LIC-LOCATION:America/Los_Angeles
BEGIN:DAYLIGHT
DTSTART:20240310T030000
TZOFFSETFROM:-0800
TZOFFSETTO:-0700
TZNAME:PDT
END:DAYLIGHT
END:VTIMEZONE
END:VCALENDAR