BEGIN:VCALENDAR
VERSION:2.0
PRODID:-//wp-events-plugin.com//7.2.3.1//EN
BEGIN:VEVENT
UID:532@breathelosangeles.us
DTSTART;TZID=America/Los_Angeles:20241021T180000
DTEND;TZID=America/Los_Angeles:20241021T200000
DTSTAMP:20240925T162556Z
URL:https://breathelosangeles.us/events/halloween-cookie-decorating-class/
SUMMARY:Halloween Cookie Decorating Class
DESCRIPTION:In this Halloween-themed Cookie Decorating Class\, participants
  will learn how to design six charming and delicious sugar cookies\, all w
 hile enjoying a relaxed and fun atmosphere. The class is designed for begi
 nners\, making it accessible for anyone\, regardless of experience. Attend
 ees will have everything they need provided\, including pre-baked sugar co
 okies\, bags of royal icing\, sprinkles\, decorative toppings\, and the ne
 cessary decorating tools. Each guest will also receive a practice sheet an
 d a tray to safely transport their creations home.\n\nThe class fosters cr
 eativity in a pressure-free\, engaging\, and informative environment\, per
 fect for those looking to try something new while having fun with friends.
  Participants are encouraged to bring a companion and join in the festive 
 spirit of the event.\n\nCancellation/Refund Policy:\nUnderstanding that un
 expected events can occur\, the class offers flexibility with cancellation
 s. Guests can cancel their registration up to seven days before the class 
 date for a full refund. However\, cancellations after October 14\, 2024\, 
 will be nonrefundable. If a participant cannot attend\, they are welcome t
 o transfer their ticket to someone else.\n\nChildren’s Participation:\nC
 hildren aged 7 and above are invited to join the class as long as they are
  accompanied by an adult. Both the child and adult must purchase individua
 l tickets for the session.\n\nThis event promises a creative and festive e
 xperience\, making it an ideal way to celebrate the Halloween season.\n\nG
 ET TICKETS\n
ATTACH;FMTTYPE=image/jpeg:https://breathelosangeles.us/wp-content/uploads/
 2024/09/Halloween-Cookie-Decorating-Class.jpg
CATEGORIES:Food &amp; Drink Events
LOCATION:East Anaheim Community Center\, 8201 East Santa Ana Canyon Road \,
  Anaheim\, California\, 92808 \, CA\, United States
X-APPLE-STRUCTURED-LOCATION;VALUE=URI;X-ADDRESS=8201 East Santa Ana Canyon 
 Road \, Anaheim\, California\, 92808 \, CA\, United States;X-APPLE-RADIUS=
 100;X-TITLE=East Anaheim Community Center:geo:0,0
END:VEVENT
BEGIN:VTIMEZONE
TZID:America/Los_Angeles
X-LIC-LOCATION:America/Los_Angeles
BEGIN:DAYLIGHT
DTSTART:20240310T030000
TZOFFSETFROM:-0800
TZOFFSETTO:-0700
TZNAME:PDT
END:DAYLIGHT
END:VTIMEZONE
END:VCALENDAR