BEGIN:VCALENDAR
VERSION:2.0
PRODID:-//wp-events-plugin.com//7.2.3.1//EN
BEGIN:VEVENT
UID:419@breathelosangeles.us
DTSTART;TZID=America/Los_Angeles;VALUE=DATE:20240905
DTEND;TZID=America/Los_Angeles;VALUE=DATE:20240906
DTSTAMP:20240830T082302Z
URL:https://breathelosangeles.us/events/halloween-horror-nights/
SUMMARY:Halloween Horror Nights
DESCRIPTION:As the spooky season inches closer\, Universal Studios is geari
 ng up to bring its signature Halloween Horror Nights to life. The event\, 
 set to take place at the Hollywood-adjacent theme park\, promises an array
  of chilling haunted houses that will immerse guests in terror.\n\nThis ye
 ar\, A Quiet Place will be transformed into a haunted house at both Univer
 sal Studios Hollywood and its Orlando counterpart. Drawing inspiration fro
 m the first two films in the series\, the attraction will emphasize the ee
 rie silence that defines the movies. Visitors will journey through the Abb
 ott family's farmhouse\, where sound design plays a crucial role\, mimicki
 ng the quiet tension of the films and even incorporating American Sign Lan
 guage to enhance the experience.\n\nIn addition to A Quiet Place\, guests 
 can look forward to an array of other haunted attractions. Ghostbusters: F
 rozen Empire will bring a bone-chilling New York to life\, while Insidious
 : The Further plunges visitors into a demonic world inspired by the Blumho
 use franchise. The Texas Chainsaw Massacre will make an appearance\, as wi
 ll returning favorites like Monstruos 2: The Nightmare of Latin America an
 d Dead Exposure: Death Valley. Music fans will be thrilled to see The Week
 nd’s return with a haunted house dubbed The Weeknd: Nightmare Trilogy.\n
 \nUniversal Monsters fans can explore Universal Monsters: Eternal Bloodlin
 es\, which features a formidable all-female lineup of classic monsters\, i
 ncluding The Bride of Frankenstein\, Dracula’s Daughter\, She-Wolf of Lo
 ndon\, and Anck-Su-Namun. This haunted house is located on the very stage 
 where Dracula and Frankenstein were filmed in the 1930s\, adding an extra 
 layer of authenticity and nostalgia.\n\nThe thrills extend beyond the haun
 ted houses. On the studio tour\, known as the Terror Tram\, visitors can e
 xpect a Blumhouse takeover\, and The Purge will once again dominate the st
 age show at the WaterWorld venue.\n\nHalloween Horror Nights will run on s
 elect nights from September 5 to November 3. Tickets range from $77 to $10
 7 depending on the date\, with Express Pass options available for $209 to 
 $309.\n\nGET TICKETS\n
ATTACH;FMTTYPE=image/jpeg:https://breathelosangeles.us/wp-content/uploads/
 2024/08/Halloween-Horror-Nights.webp
CATEGORIES:Things To Do
LOCATION:Universal Studios Hollywood & Universal CityWalk\, 100 Universal C
 ity Plaza\, Los Angeles\, California\, 91608\, CA\, United States
X-APPLE-STRUCTURED-LOCATION;VALUE=URI;X-ADDRESS=100 Universal City Plaza\, 
 Los Angeles\, California\, 91608\, CA\, United States;X-APPLE-RADIUS=100;X
 -TITLE=Universal Studios Hollywood & Universal CityWalk:geo:0,0
END:VEVENT
BEGIN:VTIMEZONE
TZID:America/Los_Angeles
X-LIC-LOCATION:America/Los_Angeles
BEGIN:DAYLIGHT
DTSTART:20240310T030000
TZOFFSETFROM:-0800
TZOFFSETTO:-0700
TZNAME:PDT
END:DAYLIGHT
END:VTIMEZONE
END:VCALENDAR