BEGIN:VCALENDAR
VERSION:2.0
PRODID:-//wp-events-plugin.com//7.2.3.1//EN
BEGIN:VEVENT
UID:636@breathelosangeles.us
DTSTART;TZID=America/Los_Angeles:20241019T130000
DTEND;TZID=America/Los_Angeles:20241019T140000
DTSTAMP:20241001T132137Z
URL:https://breathelosangeles.us/events/halloween-succulent-arrangement-wo
 rkshop/
SUMMARY:Halloween Succulent Arrangement Workshop
DESCRIPTION:Get ready for a spooktacular experience at Tansy’s Halloween 
 Succulent Arrangement Workshop! This engaging and interactive event invite
 s participants of all ages and skill levels to unleash their creativity wh
 ile celebrating the festive spirit of Halloween.\n\nThroughout the worksho
 p\, attendees will have the opportunity to plant\, decorate\, and nurture 
 their very own spooky succulent garden\, designed to thrive throughout the
  season and beyond. Not only will participants learn essential care techni
 ques for their new green companions\, but they will also get to express th
 eir artistic flair by painting their own pots. Whether your vision is a ha
 unted graveyard\, a cheerful pumpkin patch\, or an eerie haunted house\, t
 he possibilities are endless!\n\nLed by an expert instructor\, the worksho
 p promises a supportive environment where everyone will receive guidance a
 t each stage of the arrangement process\, ensuring that every creation is 
 a true reflection of personal style and imagination.\n\nAll necessary mate
 rials will be provided\, so all you need to bring is your enthusiasm and a
  dash of creativity. Join us for an afternoon filled with crafting\, fun\,
  and a celebration of Halloween spirit! Don't miss out on this unique oppo
 rtunity to create a vibrant succulent display that adds a touch of spooky 
 charm to your home. 🌵🎃👻\n\nGET TICKETS\n
ATTACH;FMTTYPE=image/jpeg:https://breathelosangeles.us/wp-content/uploads/
 2024/10/Halloween-Succulent-Arrangement-Workshop.jpg
CATEGORIES:Things To Do
LOCATION:Tansy\, 2120 West Magnolia Boulevard Burbank\, Los Angeles\, Los A
 ngeles\, 91506\, CA\, United States
X-APPLE-STRUCTURED-LOCATION;VALUE=URI;X-ADDRESS=2120 West Magnolia Boulevar
 d Burbank\, Los Angeles\, Los Angeles\, 91506\, CA\, United States;X-APPLE
 -RADIUS=100;X-TITLE=Tansy:geo:0,0
END:VEVENT
BEGIN:VTIMEZONE
TZID:America/Los_Angeles
X-LIC-LOCATION:America/Los_Angeles
BEGIN:DAYLIGHT
DTSTART:20240310T030000
TZOFFSETFROM:-0800
TZOFFSETTO:-0700
TZNAME:PDT
END:DAYLIGHT
END:VTIMEZONE
END:VCALENDAR