BEGIN:VCALENDAR
VERSION:2.0
PRODID:-//wp-events-plugin.com//7.2.3.1//EN
BEGIN:VEVENT
UID:108@breathelosangeles.us
DTSTART;TZID=America/Los_Angeles:20240424T190000
DTEND;TZID=America/Los_Angeles:20240424T200000
DTSTAMP:20240911T114307Z
URL:https://breathelosangeles.us/events/healing-energy-recipes/
SUMMARY:Healing Energy Recipes
DESCRIPTION:\n\n\n\n\n\n\n\n\n\n\n\n\nEmbark on a transformative journey to
 wards holistic well-being with "Your Holistic Guide to Wellness." This imm
 ersive experience is designed to empower you with invaluable insights and 
 practical tools for nurturing your mind\, body\, and spirit. Led by season
 ed practitioners and wellness experts\, our program offers a comprehensive
  approach to holistic living\, addressing key aspects such as physical hea
 lth\, emotional balance\, and spiritual harmony.\n\nEvent Information:\n\n
 Event Name: Healing Energy Recipes\n\nHost: Compassionate Transformation C
 ommunity\n\nDate and Time: Wednesday\, APRIL24• 7:00 - 8:00pm PDT.\n\nAb
 out this Event:\n\nEmpowering journey into holistic wellness with "Healing
  Energy Recipes." Led by Winnie\, a passionate advocate for transformative
  tools\, and co-facilitated by Jay Dubois\, an expert in human relations a
 nd energy cultivation\, this session offers a unique approach to healing a
 nd growth.\n\nTicket Information:\n\nTicket Price: Free\n\nGET TICKETS\n\n
 \n\nSales End: APRIL24\, 2024\n\nWorkout Session Detail:\n\nDelve into a d
 ynamic hour of exploration\, where we embrace the challenges of health\, r
 elationships\, and finances with compassion and resilience. Discover the t
 ransformative power of simple yet effective tools and practices\, designed
  to nurture your mind\, body\, and spirit.\n\nEssential for Brian:\n\nExpe
 rience a supportive community environment where you can openly share your 
 challenges and receive personalized guidance and support tailored to your 
 unique needs.\n\nParking Option:\n\nParking is available at the Compassion
 ate Transformation Community venue located at 2801 East Foothill Boulevard
 \, Pasadena\, CA 91107.\n\nAbout the Host:\n\nCompassionate Transformation
  Community is dedicated to fostering holistic well-being and personal grow
 th. Led by Winnie and Jay Dubois\, our community provides a nurturing spac
 e for individuals to explore and embrace their journey towards healing and
  transformation.\n\n\n\n\n\n\n\n&nbsp\;\n\n\n\n\n\n\n\n\n\n\n&nbsp\;\n\n\n
 \n\n\n\n\n\n\n\n\n
ATTACH;FMTTYPE=image/jpeg:https://breathelosangeles.us/wp-content/uploads/
 2024/03/OOOOOOOOOOOOOOOOOOOOOOOO.jpg
CATEGORIES:Wellness Events
LOCATION:Compassionate Transformation Communtiy\,  2801 East Foothill  \, B
 oulevard Pasadena\,\, United States\, CA \, 91107 \, United States
X-APPLE-STRUCTURED-LOCATION;VALUE=URI;X-ADDRESS= 2801 East Foothill  \, Bou
 levard Pasadena\,\, United States\, CA \, 91107 \, United States;X-APPLE-R
 ADIUS=100;X-TITLE=Compassionate Transformation Communtiy:geo:0,0
END:VEVENT
BEGIN:VTIMEZONE
TZID:America/Los_Angeles
X-LIC-LOCATION:America/Los_Angeles
BEGIN:DAYLIGHT
DTSTART:20240310T030000
TZOFFSETFROM:-0800
TZOFFSETTO:-0700
TZNAME:PDT
END:DAYLIGHT
END:VTIMEZONE
END:VCALENDAR