BEGIN:VCALENDAR
VERSION:2.0
PRODID:-//wp-events-plugin.com//7.2.3.1//EN
BEGIN:VEVENT
UID:18@breathelosangeles.us
DTSTART;TZID=America/Los_Angeles:20240420T100000
DTEND;TZID=America/Los_Angeles:20240420T160000
DTSTAMP:20240312T122332Z
URL:https://breathelosangeles.us/events/healing-the-healer/
SUMMARY:Healing the Healer
DESCRIPTION:\n\n\n\n\n\n\n\n\n\n\n\n\n\n\n\n\n\n\n\n\n\n\n\n\nStep into the
  transformative experience of "Healing the Healer\," a rejuvenating gather
 ing crafted with care. Join us in this immersive event where we are commit
 ted to offering the essential TLC (Tender Loving Care) that those who tire
 lessly care for others truly deserve. It's a unique opportunity to repleni
 sh your mind\, nurture your body\, and uplift your spirit. Let this be a m
 oment dedicated to you\, the healer\, where you can receive the support an
 d rejuvenation you need to continue your vital work. Come\, be a part of t
 his healing journey with us.\n\n\n\n\n\n\n\n\n\n\n\n\n\nEvent Information:
 \n\nEvent Name: Healing the Healer\n\nHosted by: GROWURPOTENTIAL\n\nEvent 
 Type: In-person\n\nDuration: 6 hours\n\nDate and Time: Saturday\, April 20
 \, 10 am - 4 pm PDT\n\nLocation: Inglewood\, CA\, USA (Market Street\, Ing
 lewood\, CA 90301)\n\nAbout this Event: Join GROWURPOTENTIAL for "Healing 
 the Healer\," an in-person event near the Inglewood Courthouse. This gathe
 ring is dedicated to providing much-needed TLC to individuals who tireless
 ly care for others. The event aims to support mentors\, healers\, doulas\,
  nurses\, pastors\, and mental health partners\, offering a collaborative 
 space for Healing Justice mentors. Participants will discover new ways to 
 rejuvenate their mind\, body\, and spirit. Recognizing the labor of healin
 g work\, GROWURPOTENTIAL is committed to providing ongoing resources to ke
 ep attendees glowing.\n\nTicket Information:\n\nMobile eTicket available\n
 \nTICKET PRICE : $0 – $300\n\n\n\n\nGET TICKETS\n\nContact the organizer
  for refund requests\n\nEventbrite's fee is nonrefundable\n\nWorkout Sessi
 on Detail: The event focuses on holistic well-being\, providing various se
 ssions and activities to rejuvenate the mind\, body\, and spirit. Specific
  workout session details may be provided closer to the event date.\n\nEsse
 ntials to Bring: Participants are encouraged to bring any personal items t
 hey may need for comfort and participation in the event's activities. Spec
 ific requirements or suggestions for essentials may be communicated by the
  organizer at a later date.\n\nParking Options: Details about parking opti
 ons for the event venue in Inglewood\, CA\, will be provided to attendees 
 closer to the event date.\n\nNote: Please check for updates from the organ
 izer or the event platform for any additional information or changes.\n\n\
 n\n\n\n\n\n\n\n\n\n\n
ATTACH;FMTTYPE=image/jpeg:https://breathelosangeles.us/wp-content/uploads/
 2024/03/https___cdn.evbuc_.com_images_667698579_167201615380_1_original.jp
 eg
CATEGORIES:Wellness Events
LOCATION:Inglewood\, Inglewood\, CA\, USA  Market Street Inglewood\, CA 903
 01 United States\, CA\, USA\, 90301\, United States
X-APPLE-STRUCTURED-LOCATION;VALUE=URI;X-ADDRESS=Inglewood\, CA\, USA  Marke
 t Street Inglewood\, CA 90301 United States\, CA\, USA\, 90301\, United St
 ates;X-APPLE-RADIUS=100;X-TITLE=Inglewood:geo:0,0
END:VEVENT
BEGIN:VTIMEZONE
TZID:America/Los_Angeles
X-LIC-LOCATION:America/Los_Angeles
BEGIN:DAYLIGHT
DTSTART:20240310T030000
TZOFFSETFROM:-0800
TZOFFSETTO:-0700
TZNAME:PDT
END:DAYLIGHT
END:VTIMEZONE
END:VCALENDAR