BEGIN:VCALENDAR
VERSION:2.0
PRODID:-//wp-events-plugin.com//7.2.3.1//EN
BEGIN:VEVENT
UID:272@breathelosangeles.us
DTSTART;TZID=America/Los_Angeles:20240516T200000
DTEND;TZID=America/Los_Angeles:20240516T220000
DTSTAMP:20240507T192635Z
URL:https://breathelosangeles.us/events/health-ensurance-vol-5-1-la-mode/
SUMMARY:HEALTH ENSURANCE VOL. 5.1 LA MODE
DESCRIPTION:\nDive into Art &amp\; Film: Health Insurance Vol. 5 - LA Mode!
 \nGet ready for a sensory explosion at Health Insurance Vol. 5 - LA Mode!\
 nThis dynamic\, mixed-media showcase marks the (unofficially) fifth instal
 lment of the Health Insurance series. Prepare to be enthralled by a divers
 e blend of film and visual art expressions.\nA Night of Artistic Discovery
 :\n\n\n 	Film Showcase: Immerse yourself in a captivating selection of fil
 ms from a range of talented creators. Explore works by @leadprotagonist\, 
 @dan.streit\, @jakewolfert\, @raf_fellner\, @getmezzy\, @alexsovoda\, @bom
 bvest\, @oksaywhen\, and @yellowretriever. Additionally\, Austin Frosch an
 d more surprise artists await!\n 	Visual Art Delights: The event extends b
 eyond the screen with dynamic visual art installations that complement the
  film experience.\n\nSpecial Guests Elevate the Night:\n\n\n 	Eric Rahill:
  The presence of renowned artist Eric Rahill adds an extra layer of intrig
 ue to the event. Anticipate his unique perspective and creative energy.\n 
 	Nate Varrone: Talented artist Nate Varrone joins the roster\, further enr
 iching the artistic tapestry of the evening.\n\nMore than Just an Exhibiti
 on:\nHealth Insurance Vol. 5 - LA Mode is more than just an exhibition. It
 's a platform for artistic exploration\, fostering connections between art
 ists and audiences. Come prepared to be inspired\, challenged\, and transp
 orted to new artistic frontiers.\nJoin the Conversation:\nBe part of a vib
 rant community of art enthusiasts. Engage in discussions\, connect with fe
 llow art lovers\, and celebrate the power of creative expression.\nDon't M
 iss Out!\nWhether you're a seasoned art aficionado or simply curious to ex
 plore the world of mixed media\, Health Insurance Vol. 5 - LA Mode promise
 s an unforgettable experience. Mark your calendars and join us for a night
  of artistic discovery and connection!\nHashtags:\n#HealthInsuranceVol5 #L
 AMode #MixedMediaShowcase #FilmScreening #VisualArt #LAArtScene\n\n\n\nBUY
  TICKETS\n
ATTACH;FMTTYPE=image/jpeg:https://breathelosangeles.us/wp-content/uploads/
 2024/05/https___cdn.evbuc_.com_images_754298449_206593952936_1_original.jp
 eg
CATEGORIES:Wellness Events
LOCATION:Lumiere Music Hall\, 9036 Wilshire Boulevard \, Beverly Hills\, Ca
 lifornia\, 90211\, United States
X-APPLE-STRUCTURED-LOCATION;VALUE=URI;X-ADDRESS=9036 Wilshire Boulevard \, 
 Beverly Hills\, California\, 90211\, United States;X-APPLE-RADIUS=100;X-TI
 TLE=Lumiere Music Hall:geo:0,0
END:VEVENT
BEGIN:VTIMEZONE
TZID:America/Los_Angeles
X-LIC-LOCATION:America/Los_Angeles
BEGIN:DAYLIGHT
DTSTART:20240310T030000
TZOFFSETFROM:-0800
TZOFFSETTO:-0700
TZNAME:PDT
END:DAYLIGHT
END:VTIMEZONE
END:VCALENDAR