BEGIN:VCALENDAR
VERSION:2.0
PRODID:-//wp-events-plugin.com//7.2.3.1//EN
BEGIN:VEVENT
UID:390@breathelosangeles.us
DTSTART;TZID=America/Los_Angeles:20240817T140000
DTEND;TZID=America/Los_Angeles:20240817T153000
DTSTAMP:20240813T154243Z
URL:https://breathelosangeles.us/events/hemi-synthesis-an-immersive-flow-o
 f-binaural-sound-waves-with-quartz-bowls/
SUMMARY:Hemi-synthesis: An immersive flow of binaural sound waves with quar
 tz bowls
DESCRIPTION:Embark on a journey of profound auditory healing with Hemi-Synt
 hesis\, an immersive flow of binaural sound waves harmonized with the reso
 nant tones of quartz bowls. This hour-long experience\, led by acclaimed a
 rtist\, musician\, and wellness practitioner Patricia Vernhes\, offers a u
 nique opportunity to realign and synchronize your brain’s hemispheres\, 
 fostering a deep sense of inner balance and tranquility.\nWhat to Expect:\
 n\n 	Hemispheric Tuning and Synchronization: This session is designed to p
 romote optimal brain function by harmonizing the left and right hemisphere
 s of the brain. Through carefully calibrated binaural beats\, the sound wa
 ves encourage neural pathways to align\, supporting enhanced mental clarit
 y\, focus\, and relaxation.\n 	Quartz Bowl Resonance: Patricia employs a m
 eticulously curated set of 14 quartz bowls\, each binaurally tuned to prec
 ise frequencies. These bowls\, some measuring up to 24 inches in diameter\
 , are selected not only for their individual vibrational properties but al
 so for the way their frequencies interact at specific intervals. This inte
 raction creates a cascading\, rinse-like effect on the cellular level\, fa
 cilitating deep physical and emotional release.\n 	Restorative Sound Immer
 sion: As you lie back and absorb the immersive soundscape\, you’ll be en
 veloped in the pure tones of the quartz bowls. These sounds work to cleans
 e and rejuvenate your energy\, helping to release blockages and promote a 
 state of holistic well-being. The experience is designed to gently guide y
 ou into a meditative state\, allowing for profound relaxation and inner ha
 rmony.\n\nWhy Attend?\nWhether you’re seeking to alleviate stress\, enha
 nce your meditation practice\, or simply explore the transformative power 
 of sound\, Hemi-Synthesis offers a deeply restorative experience. Patricia
  Vernhes\, with her expertise in sound healing and wellness\, creates a sp
 ace where sound becomes a tool for deep healing and personal transformatio
 n.\n\nJoin us for this exceptional sound healing session and experience th
 e rejuvenating effects of hemispheric synchronization and quartz bowl reso
 nance. Allow the carefully crafted sound waves to wash over you\, leaving 
 you refreshed\, balanced\, and in tune with your innermost self.\n\nGET TI
 CKETS\n
ATTACH;FMTTYPE=image/jpeg:https://breathelosangeles.us/wp-content/uploads/
 2024/08/Hemi-synthesis-An-immersive-flow-of-binaural-sound-waves-with-quar
 tz-bowls.jpg
CATEGORIES:Mindfulness Events,Things To Do,Wellness Events
LOCATION:Philosophical Research Society\, 3910 Los Feliz Blvd Los Angeles\,
  Los Angeles\, California\, 90027\, CA\, United States
X-APPLE-STRUCTURED-LOCATION;VALUE=URI;X-ADDRESS=3910 Los Feliz Blvd Los Ang
 eles\, Los Angeles\, California\, 90027\, CA\, United States;X-APPLE-RADIU
 S=100;X-TITLE=Philosophical Research Society:geo:0,0
END:VEVENT
BEGIN:VTIMEZONE
TZID:America/Los_Angeles
X-LIC-LOCATION:America/Los_Angeles
BEGIN:DAYLIGHT
DTSTART:20240310T030000
TZOFFSETFROM:-0800
TZOFFSETTO:-0700
TZNAME:PDT
END:DAYLIGHT
END:VTIMEZONE
END:VCALENDAR