BEGIN:VCALENDAR
VERSION:2.0
PRODID:-//wp-events-plugin.com//7.2.3.1//EN
BEGIN:VEVENT
UID:360@breathelosangeles.us
DTSTART;TZID=America/Los_Angeles:20240716T190000
DTEND;TZID=America/Los_Angeles:20240716T210000
DTSTAMP:20240911T114343Z
URL:https://breathelosangeles.us/events/highlands-live-ball/
SUMMARY:Highlands Live Ball
DESCRIPTION:Highlands Live Ball presented by Breathe Los Angeles and Eric W
 achs.\n\nInvite only.\n\nBreathe Los Angeles Original\nGet ready for an aw
 esome tennis experience like no other with Highlands Live Ball aka HLB.\n\
 nHLB is curated by Eric Wachs and reflects his love of tennis and having f
 un.  When you play in HLB events\, you can expect players with consistent
  skills\, high-energy tennis\, lots of laughs\, the occasional pegging\, a
  bit of music and if you're so inclined an adult beverage after the sessio
 n.\n\nHLB sessions are about 2 hours long.  We start with a 15-minute war
 m up period for all players and then a 90-minute live ball session that is
  usually divided into 3-4 segments or baskets.\n\nEach event promises non-
 stop action\, fierce competition\, and lots of laughs.\n\nEvent Duration: 
 7:00 PM - 9:00 PM\n\nFee: $40\n\nHost: Eric Wachs\n\nHost: JP  \n\nLocat
 ion: Santa Ynez Rec Center in the Palisades Highlands\n\n7:00 - 7:15 PM: P
 layer Warm Up\n\n7:20 - 8:50 PM: Live Ball\n\n* Every week\, Eric will sen
 d out a text with a link to sign-up.  You'll pay in advance but can cance
 l your spot and receive a full refund if done so by 8am PT the day before 
 the scheduled live ball event.
ATTACH;FMTTYPE=image/jpeg:https://breathelosangeles.us/wp-content/uploads/
 2024/06/live-ball-2.png
CATEGORIES:Featured Events,Sports &amp; Fitness Events
LOCATION:Santa Ynez Rec Center\, 17005 Palisades Cir\, Pacific Palisades\, 
 CA\, 90272\, United States
X-APPLE-STRUCTURED-LOCATION;VALUE=URI;X-ADDRESS=17005 Palisades Cir\, Pacif
 ic Palisades\, CA\, 90272\, United States;X-APPLE-RADIUS=100;X-TITLE=Santa
  Ynez Rec Center:geo:0,0
END:VEVENT
BEGIN:VTIMEZONE
TZID:America/Los_Angeles
X-LIC-LOCATION:America/Los_Angeles
BEGIN:DAYLIGHT
DTSTART:20240310T030000
TZOFFSETFROM:-0800
TZOFFSETTO:-0700
TZNAME:PDT
END:DAYLIGHT
END:VTIMEZONE
END:VCALENDAR