BEGIN:VCALENDAR
VERSION:2.0
PRODID:-//wp-events-plugin.com//7.2.3.1//EN
BEGIN:VEVENT
UID:81@breathelosangeles.us
DTSTART;TZID=America/Los_Angeles:20240620T210000
DTEND;TZID=America/Los_Angeles:20240623T233000
DTSTAMP:20240427T222648Z
URL:https://breathelosangeles.us/events/hollywood-carnival-2024-festival-p
 ass/
SUMMARY:Hollywood Carnival 2024 (Festival Pass)
DESCRIPTION:\nImmerse Yourself in the Magic: Hollywood Carnival 2024 Festiv
 al Pass!\nCalling all party people and Caribbean culture enthusiasts! The 
 highly anticipated Hollywood Carnival season is back\, and it promises an 
 unforgettable week of vibrant celebrations.\nUnleash the Festivities with 
 the Exclusive Festival Pass:\nThis year\, unlock a world of revelry with t
 he 2024 Hollywood Carnival Festival Pass\, granting you access to a specta
 cular series of 7 events taking place from June 20th to June 23rd.\nHere's
  a sneak peek at the electrifying experiences that await you:\n\n\n 	Thurs
 day\, June 20th - "Hollywood Carnival Welcome Party": Kick off the festivi
 ties in style! Mingle with fellow revelers\, immerse yourself in the infec
 tious Caribbean vibes\, and get a taste of what's to come throughout the w
 eekend.\n 	Friday\, June 21st - "HC DUCK WORK": Prepare to be dazzled! Thi
 s event promises an explosion of energy and captivating performances that 
 will leave you wanting more. (Specific details about the event's theme or 
 focus may be revealed closer to the date.)\n 	Friday\, June 21st - "HC Mai
 n Event": Brace yourselves for the crown jewel of the festival! The Hollyw
 ood Carnival Main Event is where the party truly comes alive. Immerse your
 self in a vibrant atmosphere pulsating with music\, dance\, and dazzling c
 ostumes.\n 	Saturday\, June 22nd - "HC Culture Village VIP": Take a luxuri
 ous step back and indulge in an exquisitely curated VIP experience. Savor 
 delectable food and drinks\, enjoy premium viewing areas\, and soak in the
  electrifying energy of the carnival from a unique perspective.\n 	Saturda
 y\, June 22nd - "HC After Party": Keep the party going all night long! Thi
 s after-party ensures the celebrations continue well into the early hours\
 , allowing you to dance the night away and forge unforgettable memories.\n
  	Sunday\, June 23rd - Hollywood Carnival J'ouvert (Wet Fete): Embrace the
  playful spirit of the Caribbean with the legendary J'ouvert tradition. Pr
 epare to get delightfully messy with paint and water\, as you celebrate li
 beration and revel in the communal joy.\n 	Sunday\, June 23rd - "Hollywood
  Carnival Shine": Don your most vibrant attire and let your inner light sh
 ine! This closing event provides one last opportunity to embrace the carni
 val spirit\, indulge in the music\, and celebrate the vibrant Caribbean cu
 lture.\n\nDon't miss out on this incredible opportunity! Grab your friends
  and secure your Hollywood Carnival Festival Pass today! Prepare to experi
 ence a week-long extravaganza filled with cultural immersion\, electrifyin
 g music\, dazzling costumes\, and unforgettable memories.\nJoin the Hollyw
 ood Carnival and celebrate life\, culture\, and the joy of community!\n\n\
 n\n\nBUY TICKETS\n\n
ATTACH;FMTTYPE=image/jpeg:https://breathelosangeles.us/wp-content/uploads/
 2024/03/https___cdn.evbuc_.com_images_636380869_293410375460_1_original.jp
 eg
CATEGORIES:Featured Events,Things To Do,Wellness Events
LOCATION:Various Locations\, Hollywood\, Los Angeles\, California\, 90028\,
  United States
X-APPLE-STRUCTURED-LOCATION;VALUE=URI;X-ADDRESS=Hollywood\, Los Angeles\, C
 alifornia\, 90028\, United States;X-APPLE-RADIUS=100;X-TITLE=Various Locat
 ions:geo:0,0
END:VEVENT
BEGIN:VTIMEZONE
TZID:America/Los_Angeles
X-LIC-LOCATION:America/Los_Angeles
BEGIN:DAYLIGHT
DTSTART:20240310T030000
TZOFFSETFROM:-0800
TZOFFSETTO:-0700
TZNAME:PDT
END:DAYLIGHT
END:VTIMEZONE
END:VCALENDAR