BEGIN:VCALENDAR
VERSION:2.0
PRODID:-//wp-events-plugin.com//7.2.3.1//EN
BEGIN:VEVENT
UID:790@breathelosangeles.us
DTSTART;TZID=America/Los_Angeles:20241118T190000
DTEND;TZID=America/Los_Angeles:20241118T203000
DTSTAMP:20241021T110054Z
URL:https://breathelosangeles.us/events/how-to-balance-pregnancy-relations
 hip/
SUMMARY:How to Balance Pregnancy & Relationship
DESCRIPTION:Join us for an engaging and insightful event in Atlanta\, desig
 ned to help couples navigate the unique challenges of maintaining a health
 y and strong relationship during pregnancy. Whether you’re expecting you
 r first child or expanding your family\, this event is tailored to support
  you on this transformative journey.\n\nPregnancy brings about many emotio
 nal\, physical\, and lifestyle changes that can impact your relationship. 
 At this event\, expert speakers will provide practical tips and strategies
  for maintaining balance\, communication\, and intimacy during this time o
 f transition. You'll learn how to manage the stresses of pregnancy while s
 taying connected with your partner\, ensuring that your relationship remai
 ns a source of strength and support.\n\nThis event also offers a great opp
 ortunity to connect with other couples who are experiencing similar challe
 nges. Share your thoughts\, hear from others\, and build a supportive comm
 unity to help you navigate the journey ahead.\n\nKey topics will include:\
 n\n 	Communication techniques for navigating pregnancy-related stress\n 	S
 trategies for maintaining emotional and physical intimacy\n 	Balancing sel
 f-care and partner support\n 	Preparing for the changes parenthood will br
 ing to your relationship\n\nDon’t miss out on this chance to strengthen 
 your bond and prepare for the exciting changes ahead. Let’s come togethe
 r to ensure that your relationship remains as healthy and vibrant as ever 
 during this important stage of life.\n\nWe look forward to seeing you ther
 e!\n\nGET TICKETS\n
ATTACH;FMTTYPE=image/jpeg:https://breathelosangeles.us/wp-content/uploads/
 2024/10/How-to-Balance.jpeg
CATEGORIES:Wellness Events
LOCATION:Los Angeles\, Los Angeles \, Los Angeles\, California\, 94612\, CA
 \, United States
X-APPLE-STRUCTURED-LOCATION;VALUE=URI;X-ADDRESS=Los Angeles \, Los Angeles\
 , California\, 94612\, CA\, United States;X-APPLE-RADIUS=100;X-TITLE=Los A
 ngeles:geo:0,0
END:VEVENT
BEGIN:VTIMEZONE
TZID:America/Los_Angeles
X-LIC-LOCATION:America/Los_Angeles
BEGIN:STANDARD
DTSTART:20241103T010000
TZOFFSETFROM:-0700
TZOFFSETTO:-0800
TZNAME:PST
END:STANDARD
END:VTIMEZONE
END:VCALENDAR