BEGIN:VCALENDAR
VERSION:2.0
PRODID:-//wp-events-plugin.com//7.2.3.1//EN
BEGIN:VEVENT
UID:356@breathelosangeles.us
DTSTART;TZID=America/Los_Angeles:20240728T100000
DTEND;TZID=America/Los_Angeles:20240728T120000
DTSTAMP:20240711T231103Z
URL:https://breathelosangeles.us/events/hypno-yoga-to-achieve-your-health-
 goals/
SUMMARY:Hypno Yoga -To Achieve your Health Goals
DESCRIPTION:Embark on a transformative journey to break bad habits and enha
 nce your overall health with Hypno Yoga\, an innovative workshop designed 
 to empower you through group hypnosis\, yoga\, and healing sound baths. Jo
 in us as we combine the power of movement\, subconscious exploration\, and
  community support to help you achieve your wellness aspirations.\n\nEvent
  Overview:\n\nDiscover the synergy of yoga\, hypnosis\, and sound therapy 
 in our unique outdoor workshop aimed at fostering holistic well-being. Led
  by certified practitioners\, this session invites participants of all age
 s and skill levels to explore new dimensions of self-improvement and inner
  harmony.\n\nWorkshop Benefits:\n\n 	Enhanced Health Habits: Through guide
 d hypnosis\, learn to cultivate healthier eating habits\, boost physical a
 ctivity\, and overcome cravings like sugar addiction.\n 	Body Confidence: 
 Gain a deeper sense of confidence and appreciation for your body as you pr
 ogress on your wellness journey.\n 	Mind-Body Alignment: Experience the po
 werful integration of yoga postures that promote flexibility\, strength\, 
 and mental clarity\, complemented by healing sound vibrations.\n 	Communit
 y Connection: Connect with like-minded individuals in a supportive environ
 ment\, fostering a sense of belonging and encouragement as you pursue your
  health goals.\n\nWhat to Expect:\n\nBegin with an invigorating yoga sessi
 on tailored to accommodate all levels\, setting the foundation for relaxat
 ion and mindful awareness. Following yoga\, immerse yourself in a transfor
 mative hypnosis session guided by a certified hypnotherapist\, designed to
  tap into your subconscious and facilitate positive behavioral changes.\n\
 nConclude the workshop with a soothing sound bath led by a certified sound
  healer\, harmonizing your energy and promoting deep relaxation. This holi
 stic approach aims to align your body and mind\, leaving you refreshed\, i
 nspired\, and empowered.\n\nJoin Us:\n\nStep into a realm of healing\, sel
 f-discovery\, and community support at Hypno Yoga for Achieving Your Healt
 h Goals. Embrace this opportunity to nurture your well-being and forge mea
 ningful connections with fellow participants. Together\, let's embark on a
  journey towards a healthier\, more balanced life.\n\nSecure Your Spot:\n\
 nSpaces are limited. Reserve your place today and embark on a path of tran
 sformational growth with Hypno Yoga. Whether you're seeking to break old p
 atterns\, enhance your fitness routine\, or find inner peace\, this worksh
 op offers the tools and support you need to thrive.\n\nGET TICKETS\n
ATTACH;FMTTYPE=image/jpeg:https://breathelosangeles.us/wp-content/uploads/
 2024/06/Hypno-Yoga-To-Achieve-your-Health-Goals.jpg
CATEGORIES:Featured Events,Mindfulness Events,Wellness Events,Yoga Events
LOCATION:Beautiful Backyard in Glendale\, Glendale\, Los Angeles\, Californ
 ia\, 91202\, CA\, United States
X-APPLE-STRUCTURED-LOCATION;VALUE=URI;X-ADDRESS=Glendale\, Los Angeles\, Ca
 lifornia\, 91202\, CA\, United States;X-APPLE-RADIUS=100;X-TITLE=Beautiful
  Backyard in Glendale:geo:0,0
END:VEVENT
BEGIN:VTIMEZONE
TZID:America/Los_Angeles
X-LIC-LOCATION:America/Los_Angeles
BEGIN:DAYLIGHT
DTSTART:20240310T030000
TZOFFSETFROM:-0800
TZOFFSETTO:-0700
TZNAME:PDT
END:DAYLIGHT
END:VTIMEZONE
END:VCALENDAR