BEGIN:VCALENDAR
VERSION:2.0
PRODID:-//wp-events-plugin.com//7.2.3.1//EN
BEGIN:VEVENT
UID:660@breathelosangeles.us
DTSTART;TZID=America/Los_Angeles:20241104T190000
DTEND;TZID=America/Los_Angeles:20241104T203000
DTSTAMP:20241004T112340Z
URL:https://breathelosangeles.us/events/in-person-bipoc-mental-health-supp
 ort-group-junior-high-glendale-2/
SUMMARY:In-Person BIPOC Mental Health Support Group @ Junior High [Glendale
 ]
DESCRIPTION:Welcome to Insula Collective's Support Groups\, designed specif
 ically for the BIPOC community\, which includes Black\, Indigenous\, and P
 eople of Color. These groups honor the diverse ethnic backgrounds that enr
 ich our community and provide a safe\, intimate setting for connection and
  support. Each session lasts 1.5 hours and aims to foster an inclusive env
 ironment where individuals can share their experiences and uplift one anot
 her.\n\nThe group sessions begin with established guidelines to ensure a r
 espectful atmosphere. Each meeting starts with a check-in\, allowing parti
 cipants to express their current thoughts and emotions. The discussions ar
 e centered around a specific topic\, guided by thoughtful prompts or quest
 ions that encourage deeper exploration of shared experiences and feelings.
 \n\nAs the session progresses\, participants engage in a positive closing 
 that includes an affirmation\, emphasizing the strength found in collectiv
 e stories and challenges. The group also incorporates a poetry reading\, c
 elebrating the therapeutic benefits of artistic expression. To wrap up\, m
 embers commit to actionable steps\, empowering them to pursue personal gro
 wth and contribute to community support.\n\nPlease note that the donation 
 model has transitioned from a pay-what-you-can approach to a sliding scale
  system to ensure the sustainability and growth of the program. Starting A
 ugust 1st\, if a participant registers for a group but does not attend wit
 hout prior notice\, they will be charged based on the tier they selected\,
  and refunds will not be permitted. Donations support the venue\, Junior H
 igh\, as well as expenses and facilitator compensation. For more informati
 on on requesting a refund\, please visit Eventbrite or contact insulacolle
 ctive@gmail.com with the subject line: Ticket Cancellation (Date of Group)
  and include your full name.\n\nGET TICKETS\n
ATTACH;FMTTYPE=image/jpeg:https://breathelosangeles.us/wp-content/uploads/
 2024/10/In-Person-BIPOC-Mental-Health-Support-Group-@-Junior-High-Glendale
 .jpeg
CATEGORIES:Wellness Events
LOCATION:Junior High\, 603 South Brand Boulevard Glendale\, Los Angeles\, C
 alifornia\, 91204 \, CA\, United States
X-APPLE-STRUCTURED-LOCATION;VALUE=URI;X-ADDRESS=603 South Brand Boulevard G
 lendale\, Los Angeles\, California\, 91204 \, CA\, United States;X-APPLE-R
 ADIUS=100;X-TITLE=Junior High:geo:0,0
END:VEVENT
BEGIN:VTIMEZONE
TZID:America/Los_Angeles
X-LIC-LOCATION:America/Los_Angeles
BEGIN:STANDARD
DTSTART:20241103T010000
TZOFFSETFROM:-0700
TZOFFSETTO:-0800
TZNAME:PST
END:STANDARD
END:VTIMEZONE
END:VCALENDAR