BEGIN:VCALENDAR
VERSION:2.0
PRODID:-//wp-events-plugin.com//7.2.3.1//EN
BEGIN:VEVENT
UID:586@breathelosangeles.us
DTSTART;TZID=America/Los_Angeles:20241014T190000
DTEND;TZID=America/Los_Angeles:20241014T203000
DTSTAMP:20240929T141945Z
URL:https://breathelosangeles.us/events/in-person-bipoc-mental-health-supp
 ort-group-junior-high-glendale/
SUMMARY:In-Person BIPOC Mental Health Support Group @ Junior High [Glendale
 ]
DESCRIPTION:The Insula Collective is proud to offer mental health support g
 roups designed specifically for the BIPOC (Black\, Indigenous\, and People
  of Color) community\, recognizing the rich diversity of ethnic background
 s within it. These intimate\, 1.5-hour sessions are carefully curated to p
 rovide a safe and inclusive space for participants to connect\, share expe
 riences\, and uplift one another.\n\nEach session begins with a check-in\,
  allowing attendees to express their current thoughts and emotions. Ground
  rules are established at the outset to ensure the space remains respectfu
 l and supportive for all. Discussions focus on specific topics\, guided by
  questions and prompts that encourage deeper reflection on shared experien
 ces. This open dialogue fosters connection and understanding\, building a 
 strong sense of community.\n\nAs the session progresses\, participants are
  led through a positive closing ritual that includes affirmations\, highli
 ghting the strength and solidarity found in shared stories. A poetry readi
 ng is incorporated\, embracing the healing power of artistic expression. T
 he session concludes with a commitment to action\, motivating participants
  to take meaningful steps toward personal growth and continued support for
  the community.\n\nImportant Information: Please note that the support gro
 up has transitioned from a pay-what-you-can donation model to a sliding sc
 ale to ensure sustainability and growth. Because space is limited\, it’s
  important to honor your commitment once registered. Beginning August 1st\
 , participants who do not cancel their RSVP in advance and fail to attend 
 will be charged according to their selected tier\, and refunds will not be
  provided. Donations go toward covering costs for the venue\, Junior High\
 , facilitator compensation\, and other group expenses.\n\nFor any issues w
 ith refunds\, please visit Eventbrite or contact insulacollective@gmail.co
 m with the subject line “Ticket Cancellation (Date of Group)” and incl
 ude your full name.\n\nThis support group offers a valuable opportunity fo
 r the BIPOC community to find strength and healing through shared stories\
 , artistic expression\, and actionable growth.\n\n&nbsp\;\n\n&lt\;div clas
 s="wp-block-buttons is-layout-flex"&gt\;\n\n&lt\;div class="wp-block-butto
 n has-custom-width wp-block-button__width-50"&gt\;&lt\;a class="wp-block-b
 utton__link wp-element-button" href="https://www.eventbrite.com/e/in-perso
 n-bipoc-mental-health-support-group-junior-high-glendale-registration-9527
 82136017?aff=ebdssbdestsearch target="_blank" rel="noopener"&gt\;GET TICKE
 TS&lt\;/a&gt\;&lt\;/div&gt\;\n\n&lt\;/div&gt\;\n\nGET TICKETS\n
ATTACH;FMTTYPE=image/jpeg:https://breathelosangeles.us/wp-content/uploads/
 2024/09/In-Person-BIPOC-Mental-Health-Support-Group-@-Junior-High-Glendale
 .jpeg
CATEGORIES:Wellness Events
LOCATION:Junior High\, 603 South Brand Boulevard Glendale\, Los Angeles\, C
 alifornia\, CA 91204\, CA\, United States
X-APPLE-STRUCTURED-LOCATION;VALUE=URI;X-ADDRESS=603 South Brand Boulevard G
 lendale\, Los Angeles\, California\, CA 91204\, CA\, United States;X-APPLE
 -RADIUS=100;X-TITLE=Junior High:geo:0,0
END:VEVENT
BEGIN:VTIMEZONE
TZID:America/Los_Angeles
X-LIC-LOCATION:America/Los_Angeles
BEGIN:DAYLIGHT
DTSTART:20240310T030000
TZOFFSETFROM:-0800
TZOFFSETTO:-0700
TZNAME:PDT
END:DAYLIGHT
END:VTIMEZONE
END:VCALENDAR