BEGIN:VCALENDAR
VERSION:2.0
PRODID:-//wp-events-plugin.com//7.2.3.1//EN
BEGIN:VEVENT
UID:659@breathelosangeles.us
DTSTART;TZID=America/Los_Angeles:20241105T183000
DTEND;TZID=America/Los_Angeles:20241105T213000
DTSTAMP:20241004T111455Z
URL:https://breathelosangeles.us/events/infant-bls-cpr-and-aed-class-in-lo
 s-angeles-montebello/
SUMMARY:Infant BLS CPR and AED Class in Los Angeles - Montebello
DESCRIPTION:Join our interactive\, in-person Infant BLS CPR and AED Class d
 esigned to equip participants with essential life-saving skills specific t
 o infants. Led by experienced instructors certified by the American Heart 
 Association (AHA)\, this class offers comprehensive training to ensure tha
 t you can respond effectively in emergency situations involving infants.\n
 \nKey Features:\n\n 	Practical\, Scenario-Based Training: Participants eng
 age in hands-on practice to build confidence in real-life scenarios.\n 	Sa
 me-Day AHA CPR Certification: Upon completion of the class\, attendees rec
 eive AHA certification\, validating their skills.\n 	Focused Instruction o
 n Infant-Specific Techniques: The curriculum emphasizes techniques and str
 ategies tailored specifically for infants\, ensuring that caregivers are w
 ell-prepared for emergencies.\n\nThis class is ideal for parents\, caregiv
 ers\, and anyone interested in acquiring critical emergency response skill
 s. Don’t miss this opportunity to gain the knowledge and confidence nece
 ssary to potentially save a life.\n\nFor more information and to register\
 , please visit our website at www.cprcertificationlosangelesca.com.\n\n&nb
 sp\;\n\nGET TICKETS\n
ATTACH;FMTTYPE=image/jpeg:https://breathelosangeles.us/wp-content/uploads/
 2024/10/Infant-BLS-CPR-and-AED-Class-in-Los-Angeles-Montebello.jpeg
CATEGORIES:Wellness Events
LOCATION:CPR Certification Los Angeles\, 2445 West Beverly Boulevard Monteb
 ello\, Los Angeles\, California\, 90640\, CA\, United States
X-APPLE-STRUCTURED-LOCATION;VALUE=URI;X-ADDRESS=2445 West Beverly Boulevard
  Montebello\, Los Angeles\, California\, 90640\, CA\, United States;X-APPL
 E-RADIUS=100;X-TITLE=CPR Certification Los Angeles:geo:0,0
END:VEVENT
BEGIN:VTIMEZONE
TZID:America/Los_Angeles
X-LIC-LOCATION:America/Los_Angeles
BEGIN:STANDARD
DTSTART:20241103T010000
TZOFFSETFROM:-0700
TZOFFSETTO:-0800
TZNAME:PST
END:STANDARD
END:VTIMEZONE
END:VCALENDAR