BEGIN:VCALENDAR
VERSION:2.0
PRODID:-//wp-events-plugin.com//7.2.3.1//EN
BEGIN:VEVENT
UID:908@breathelosangeles.us
DTSTART;TZID=America/Los_Angeles:20250310T183000
DTEND;TZID=America/Los_Angeles:20250310T213000
DTSTAMP:20250218T113652Z
URL:https://breathelosangeles.us/events/infant-bls-cpr-and-aed-class-in-lo
 s-angeles-torrance-2/
SUMMARY:Infant BLS CPR and AED Class in Los Angeles - Torrance
DESCRIPTION:Participants are invited to attend hands-on\, in-person trainin
 g sessions designed to teach essential life-saving skills\, including infa
 nt CPR and AED techniques. Led by expert instructors certified by the Amer
 ican Heart Association (AHA)\, this class will provide attendees with the 
 knowledge and confidence needed to effectively respond to emergencies invo
 lving infants.\nKey Features of the Class:\n\n\n 	Practical\, scenario-bas
 ed training: Learn through real-life emergency simulations to ensure effec
 tive response in critical situations.\n 	Same-day AHA CPR certification: U
 pon completion\, participants will receive official CPR certification from
  the American Heart Association.\n 	Infant-specific techniques: Receive fo
 cused instruction on life-saving techniques tailored to infants\, addressi
 ng the unique challenges of infant emergencies.\n 	Ideal for parents\, car
 egivers\, and anyone interested in emergency response: This course is perf
 ect for anyone who wants to gain crucial skills for handling emergency sit
 uations involving infants.\n\nDon't miss this opportunity to gain the conf
 idence and competence needed to save lives. This class is designed to ensu
 re that participants are well-prepared for emergencies\, empowering them w
 ith the skills to act swiftly and effectively.\nFor more details or to reg
 ister\, visit www.cprcertificationlosangelesca.com.\n\n\nGET TICKETS\n
ATTACH;FMTTYPE=image/jpeg:https://breathelosangeles.us/wp-content/uploads/
 2025/02/Infant-BLS-CPR-and-AED-Class-in-Los-Angeles-Torrance.avif
CATEGORIES:Wellness Events
LOCATION:CPR Certification Los Angeles\, 2445 West Beverly Boulevard Monteb
 ello\, Los Angeles\, California\, 90640\, CA\, United States
X-APPLE-STRUCTURED-LOCATION;VALUE=URI;X-ADDRESS=2445 West Beverly Boulevard
  Montebello\, Los Angeles\, California\, 90640\, CA\, United States;X-APPL
 E-RADIUS=100;X-TITLE=CPR Certification Los Angeles:geo:0,0
END:VEVENT
BEGIN:VTIMEZONE
TZID:America/Los_Angeles
X-LIC-LOCATION:America/Los_Angeles
BEGIN:DAYLIGHT
DTSTART:20250309T030000
TZOFFSETFROM:-0800
TZOFFSETTO:-0700
TZNAME:PDT
END:DAYLIGHT
END:VTIMEZONE
END:VCALENDAR