BEGIN:VCALENDAR
VERSION:2.0
PRODID:-//wp-events-plugin.com//7.2.3.1//EN
BEGIN:VEVENT
UID:415@breathelosangeles.us
DTSTART;TZID=America/Los_Angeles:20240825T110000
DTEND;TZID=America/Los_Angeles:20240825T113000
DTSTAMP:20240816T050934Z
URL:https://breathelosangeles.us/events/intermission-x-melrose-mornings/
SUMMARY:Intermission x Melrose Mornings
DESCRIPTION:Start your Sunday with a refreshing blend of movement and sound
  at Intermission x Melrose Mornings—a free\, community-focused event tha
 t promises to rejuvenate both body and mind!\n\nEvent Details:\n\n 	When: 
 Every second and fourth Sunday of the month\n 	Where: Melrose Trading Post
 \n\nWhat to Expect:\nBegin your day with a soothing 30-minute yoga flow pa
 ired with a calming sound bath\, designed to leave you feeling rested\, re
 set\, and ready to take on the day. This inclusive class is open to everyo
 ne\, regardless of age\, gender\, or yoga experience.\n\nBefore and After:
 \nMake the most of your morning by exploring the vibrant Melrose Trading P
 ost market. Enjoy a diverse array of delicious food options from various f
 ood trucks\, catering to both savory and sweet cravings. While you're ther
 e\, don’t miss out on browsing the eclectic market stalls\, where you ca
 n find unique treasures\, vintage clothing\, and trendy accessories—all 
 while supporting local businesses.\n\nWhy You Should Join:\nIntermission x
  Melrose Mornings offers more than just a yoga class\; it’s an opportuni
 ty to connect with a lively community\, discover hidden gems\, and enjoy a
  relaxing morning in the heart of LA. Whether you're looking to unwind\, s
 ocialize\, or simply enjoy the market's offerings\, this event has somethi
 ng for everyone.\n\nMark your calendars and make Intermission x Melrose Mo
 rnings a part of your Sunday routine. We can't wait to see you there!\n\nG
 ET TICKETS\n
ATTACH;FMTTYPE=image/jpeg:https://breathelosangeles.us/wp-content/uploads/
 2024/08/Intermission-x-Melrose-Mornings.jpg
CATEGORIES:Mindfulness Events,Things To Do,Wellness Events,Yoga Events
LOCATION:Melrose Trading Post\, 7850 Melrose Avenue\, Los Angeles\, Califor
 nia\, 90046 \, CA\, United States
X-APPLE-STRUCTURED-LOCATION;VALUE=URI;X-ADDRESS=7850 Melrose Avenue\, Los A
 ngeles\, California\, 90046 \, CA\, United States;X-APPLE-RADIUS=100;X-TIT
 LE=Melrose Trading Post:geo:0,0
END:VEVENT
BEGIN:VTIMEZONE
TZID:America/Los_Angeles
X-LIC-LOCATION:America/Los_Angeles
BEGIN:DAYLIGHT
DTSTART:20240310T030000
TZOFFSETFROM:-0800
TZOFFSETTO:-0700
TZNAME:PDT
END:DAYLIGHT
END:VTIMEZONE
END:VCALENDAR