BEGIN:VCALENDAR
VERSION:2.0
PRODID:-//wp-events-plugin.com//7.2.3.1//EN
BEGIN:VEVENT
UID:90@breathelosangeles.us
DTSTART;TZID=America/Los_Angeles:20240330T160000
DTEND;TZID=America/Los_Angeles:20240330T200000
DTSTAMP:20240911T114417Z
URL:https://breathelosangeles.us/events/international-womens-day-conferenc
 e-brand-your-business/
SUMMARY:International Women's Day Conference Brand Your Business
DESCRIPTION:\n\n\n\n\n\n\n\n\n\n\n\n\n\n\n\n\n\n\n\n\n\n\n\n\n"Entrepreneur
 s gather to engage\, elevate\, and be encouraged\, while seizing invaluabl
 e insights from women entrepreneurs spanning topics such as health\, inves
 ting\, startups\, and beyond."\n\n\n\n\n\n\n\n\n\n\n\n\n\nEvent Informatio
 n:\n\nEvent Name: International Women's Day Conference: Brand Your Busines
 s\n\nDate and Time: Saturday\, March 30\, 4:00 PM - 8:00 PM PDT.\n\nLocati
 on: Famecast Creator Brand Accelerator\, 1533 26th Street\, Santa Monica\,
  CA 90404\, United States\n\nAbout this Event:\n\nPart of the WOMEN EMPOWE
 RMENT NETWORK collection\, the International Women's Day Conference: Brand
  Your Business is an opportunity for entrepreneurs to engage\, elevate\, a
 nd be encouraged by women entrepreneurs. From discussions on health\, inve
 sting\, startups\, and more\, attendees will catch valuable insights to em
 power their ventures.\n\nEnjoy a day with women who are passionate about e
 mpowerment and networking. The International Women's Day Conference: Brand
  Your Business is tailored for those with products or services to sell\, a
 imed at problem-solving and networking mastery.\n\nGrow your vision\, expl
 ore vendor offerings\, and become part of our network. Learn about cyber s
 ecurity\, fashion\, health\, and much more while enjoying our photo booth 
 and exciting raffle.\n\nTicket Information:\n\nGeneral Admission: $15.00 (
 +$2.85 Fee)\n\nSales End: March 30\, 2024\n\nGET TICKETS\n\nWorkout Sessio
 n Detail:\n\n4:00 PM - 5:00 PM: Meet and Greet\n\n4:30 PM - 5:00 PM: Build
  Your Business Vision Board with a Glass of Wine\n\n5:30 PM - 7:30 PM: Wom
 en's Weapons of Power Conference - Featuring discussions on topics like cy
 ber security\, health\, and investing.\n\n4:00 PM - 8:00 PM: Raffle and Me
 mbership Opportunities\n\nEssential for Bring:\n\nBusiness cards for netwo
 rking\n\nNotepad and pen for taking notes.\n\nPositive attitude and readin
 ess to engage.\n\nParking Option:\n\nParking details will be provided clos
 er to the event date.\n\n\n\n\n\n\n\n\n\n\n\n\n\n\n\n\n\n
ATTACH;FMTTYPE=image/jpeg:https://breathelosangeles.us/wp-content/uploads/
 2024/03/https___cdn.evbuc_.com_images_724591629_502145616217_1_original.jp
 eg
CATEGORIES:Wellness Events
LOCATION:Famecast Creator Brand Accelerator\, 1533 26th Street Santa Monica
 \, CA 90404 United States\, CA \,  United States\, 90404\, CA\, United Sta
 tes
X-APPLE-STRUCTURED-LOCATION;VALUE=URI;X-ADDRESS=1533 26th Street Santa Moni
 ca\, CA 90404 United States\, CA \,  United States\, 90404\, CA\, United S
 tates;X-APPLE-RADIUS=100;X-TITLE=Famecast Creator Brand Accelerator:geo:0,
 0
END:VEVENT
BEGIN:VTIMEZONE
TZID:America/Los_Angeles
X-LIC-LOCATION:America/Los_Angeles
BEGIN:DAYLIGHT
DTSTART:20240310T030000
TZOFFSETFROM:-0800
TZOFFSETTO:-0700
TZNAME:PDT
END:DAYLIGHT
END:VTIMEZONE
END:VCALENDAR