BEGIN:VCALENDAR
VERSION:2.0
PRODID:-//wp-events-plugin.com//7.2.3.1//EN
BEGIN:VEVENT
UID:109@breathelosangeles.us
DTSTART;TZID=America/Los_Angeles:20240413T130000
DTEND;TZID=America/Los_Angeles:20240413T150000
DTSTAMP:20240325T064506Z
URL:https://breathelosangeles.us/events/intuitive-body-workshop-with-maria
 -shapley/
SUMMARY:Intuitive Body Workshop with Maria Shapley
DESCRIPTION:Unlock the secrets of your inner wisdom and harness the power o
 f your breath to dissolve both emotional and physical barriers\, allowing 
 you to embrace your optimal state of well-being.\n\nEvent Information:\n\n
 Event Name: Intuitive Body Workshop with Maria Shapley\n\nHost: Sweatheory
 \n\nDate and Time: Saturday\, April 13\, 1:00 - 3:00 PM PDT.\n\nLocation: 
 Sweatheory\, 1503 North Cahuenga Boulevard 107\, Los Angeles\, CA 90028\, 
 United States\n\nTicket Price: $75.00 (General Admission)\n\nAbout this Ev
 ent: Embark on a journey of self-discovery and healing at the Intuitive Bo
 dy Workshop with Maria Shapley. This transformative workshop is designed t
 o help you tap into your intuition and harness the power of your breath to
  release emotional and physical blocks\, allowing you to experience optima
 l well-being.\n\nTicket Information:\n\n1 x General Admission: $75.00\n\nF
 ees: $6.88\n\nTotal: $81.88\n\nGET TICKETS\n\n\n\nWorkout Session Detail: 
 During this two-hour workshop\, participants will learn energy techniques 
 to address both emotional and physical issues. Through specialized breathi
 ng exercises\, attendees will relax their nervous system\, paving the way 
 for improved sleep quality and heightened energy levels. The workshop will
  conclude with each participant receiving a personalized game plan to supp
 ort their journey towards holistic wellness.\n\nEssential for Attendees: T
 his workshop is ideal for individuals experiencing any form of bodily disc
 omfort or emotional distress\, as well as those seeking to enhance their o
 verall health and wellness.\n\nParking Option: Please refer to the parking
  facilities available at or near the Sweatheory location.\n\nUnlock the in
 nate healing potential of your body and mind. At the Intuitive Body Worksh
 op. Let Maria Shapley guide you towards a path of greater well-being and v
 itality.\n\n
ATTACH;FMTTYPE=image/jpeg:https://breathelosangeles.us/wp-content/uploads/
 2024/03/555555555555555555555555555555555555555.jpg
CATEGORIES:Wellness Events
LOCATION:Sweatheory\,   1503 North Cahuenga Boulevard 107 \, Los Angeles\, 
 \,  United States\, 90028\, CA \, United States
X-APPLE-STRUCTURED-LOCATION;VALUE=URI;X-ADDRESS=  1503 North Cahuenga Boule
 vard 107 \, Los Angeles\, \,  United States\, 90028\, CA \, United States;
 X-APPLE-RADIUS=100;X-TITLE=Sweatheory:geo:0,0
END:VEVENT
BEGIN:VTIMEZONE
TZID:America/Los_Angeles
X-LIC-LOCATION:America/Los_Angeles
BEGIN:DAYLIGHT
DTSTART:20240310T030000
TZOFFSETFROM:-0800
TZOFFSETTO:-0700
TZNAME:PDT
END:DAYLIGHT
END:VTIMEZONE
END:VCALENDAR