BEGIN:VCALENDAR
VERSION:2.0
PRODID:-//wp-events-plugin.com//7.2.3.1//EN
BEGIN:VEVENT
UID:651@breathelosangeles.us
DTSTART;TZID=America/Los_Angeles:20241021T173000
DTEND;TZID=America/Los_Angeles:20241021T190000
DTSTAMP:20241003T174427Z
URL:https://breathelosangeles.us/events/journey-to-empowerment/
SUMMARY:Journey to Empowerment
DESCRIPTION:On September 18\, 2023\, at 5:30 PM PDT\, a remarkable event ti
 tled Journey to Empowerment invites individuals to embark on a transformat
 ive journey toward personal growth and self-discovery. Hosted at 25260 La 
 Paz Road\, Suite D\, Laguna Hills\, CA 92653\, this in-person gathering pr
 omises to be an enlightening experience for all who attend.\n\nThe Journey
  to Empowerment is designed to facilitate profound self-exploration and em
 powerment through a variety of engaging activities\, interactive workshops
 \, and inspiring talks. Attendees will have the opportunity to dive deep i
 nto their personal journeys\, gaining valuable insights and practical tool
 s to navigate their paths toward self-fulfillment and success.\n\nWhether 
 participants are looking to overcome obstacles\, reignite their passions\,
  or clarify their purpose\, this event offers a supportive environment tai
 lored to meet their needs. The event encourages connection among like-mind
 ed individuals\, allowing them to share their stories\, support one anothe
 r\, and learn from accomplished speakers who have firsthand experience in 
 the realm of empowerment.\n\nThis is more than just an event\; it's a chan
 ce to embrace a more empowered and fulfilling life. Attendees are encourag
 ed to reserve their spots promptly\, as this gathering promises to be a li
 fe-changing adventure. Journey to Empowerment aims to ignite inspiration\,
  foster resilience\, and equip individuals with the tools they need to tak
 e charge of their lives and manifest their dreams. Don’t miss this oppor
 tunity to transform your journey—join the movement toward empowerment an
 d self-discovery!\n\nGET TICKETS\n
CATEGORIES:Mindfulness Events,Things To Do,Wellness Events
LOCATION:Awakenings\, 25260 La Paz Road #suite d Laguna Hills\, Los Angeles
 \, California\, 92653\, CA\, United States
X-APPLE-STRUCTURED-LOCATION;VALUE=URI;X-ADDRESS=25260 La Paz Road #suite d 
 Laguna Hills\, Los Angeles\, California\, 92653\, CA\, United States;X-APP
 LE-RADIUS=100;X-TITLE=Awakenings:geo:0,0
END:VEVENT
BEGIN:VTIMEZONE
TZID:America/Los_Angeles
X-LIC-LOCATION:America/Los_Angeles
BEGIN:DAYLIGHT
DTSTART:20240310T030000
TZOFFSETFROM:-0800
TZOFFSETTO:-0700
TZNAME:PDT
END:DAYLIGHT
END:VTIMEZONE
END:VCALENDAR