BEGIN:VCALENDAR
VERSION:2.0
PRODID:-//wp-events-plugin.com//7.2.3.1//EN
BEGIN:VEVENT
UID:357@breathelosangeles.us
DTSTART;TZID=America/Los_Angeles:20240619T163000
DTEND;TZID=America/Los_Angeles:20240721T193000
DTSTAMP:20240630T070921Z
URL:https://breathelosangeles.us/events/july-sound-healer-sound-bath-train
 ing-and-mentorship/
SUMMARY:July Sound Healer / Sound Bath Training and Mentorship
DESCRIPTION:Embark on a transformative journey into the world of sound heal
 ing with our upcoming Sound Healer/Sound Bath Teacher Training. Whether yo
 u're a beginner or seasoned practitioner\, join us for an immersive weeken
 d from July 19th to July 21st and discover the profound healing potential 
 of sound.\n\nOverview:\n\nExperience the power of sound healing firsthand 
 with Ana's expert guidance and her signature approach using a diverse arra
 y of instruments\, including Paiste gongs\, crystal singing bowls tuned to
  432 Hz\, Tibetan bowls\, ocean drums\, and more. No prior experience or i
 nstruments are required—just bring your openness to learn and transform.
 \n\nTraining Highlights:\n\n 	Comprehensive Learning: Gain a deep understa
 nding of sound healing principles\, including how sound vibrations impact 
 the body's energy centers and promote self-healing.\n 	Instrument Familiar
 ization: Learn practical skills in playing and integrating various instrum
 ents into your sound healing practice\, from gongs and Tibetan bowls to cr
 ystal singing bowls.\n 	Facilitation Skills: Master the art of facilitatin
 g a Sound Bath—an immersive sound journey designed to relax the body\, c
 lear the mind\, and activate natural healing processes.\n 	Practical Appli
 cation: Engage in hands-on practice sessions and small group exercises to 
 refine your technique and deepen your experiential knowledge.\n 	Chakra Ac
 tivation: Explore techniques to unblock and activate the chakras\, enhanci
 ng energy flow and overall well-being.\n 	Certification: Earn your Shakti 
 Sound Healing Level 1 Certification upon completion\, recognized for your 
 dedication and proficiency in sound healing practices.\n\nWhat to Expect:\
 n\nDuring the training\, immerse yourself in a supportive learning environ
 ment where you'll receive personalized attention due to our small class si
 ze—limited to only 10 students. This ensures ample opportunity for hands
 -on practice\, feedback\, and individualized mentorship from Ana herself.\
 n\nSound Bath Experience:\n\nParticipate in rejuvenating Sound Baths throu
 ghout the training\, where you'll lie comfortably on a blanket and pillow\
 , allowing the cosmic vibrations of sound healing instruments to wash away
  stress and restore balance.\n\nJoin Us:\n\nPrepare to embark on a transfo
 rmative journey of self-discovery and healing with the July Sound Healer/S
 ound Bath Training and Mentorship. Whether you aspire to integrate sound h
 ealing into your professional practice or deepen your personal healing jou
 rney\, this training provides the tools\, knowledge\, and certification to
  empower you on your path.\n\nSecure Your Spot:\n\nSpaces are limited to e
 nsure a personalized learning experience. Reserve your place today and joi
 n us in unlocking the healing power of sound. Embrace this opportunity to 
 become a certified sound healer and make a positive impact through the tra
 nsformative practice of sound healing.\n\nGET TICKETS\n
ATTACH;FMTTYPE=image/jpeg:https://breathelosangeles.us/wp-content/uploads/
 2024/06/July-Sound-Healer-Sound-Bath-Training-and-Mentorship.jpg
CATEGORIES:Mindfulness Events,Wellness Events
LOCATION:Private Residence Brentwood\, Dorothy street\, Los Angeles\, Calif
 ornia\, 90049\, CA\, United States
X-APPLE-STRUCTURED-LOCATION;VALUE=URI;X-ADDRESS=Dorothy street\, Los Angele
 s\, California\, 90049\, CA\, United States;X-APPLE-RADIUS=100;X-TITLE=Pri
 vate Residence Brentwood:geo:0,0
END:VEVENT
BEGIN:VTIMEZONE
TZID:America/Los_Angeles
X-LIC-LOCATION:America/Los_Angeles
BEGIN:DAYLIGHT
DTSTART:20240310T030000
TZOFFSETFROM:-0800
TZOFFSETTO:-0700
TZNAME:PDT
END:DAYLIGHT
END:VTIMEZONE
END:VCALENDAR