BEGIN:VCALENDAR
VERSION:2.0
PRODID:-//wp-events-plugin.com//7.2.3.1//EN
BEGIN:VEVENT
UID:723@breathelosangeles.us
DTSTART;TZID=America/Los_Angeles:20241019T103000
DTEND;TZID=America/Los_Angeles:20241019T163000
DTSTAMP:20241015T124922Z
URL:https://breathelosangeles.us/events/just-let-go-day-retreat/
SUMMARY:"Just Let Go" Day Retreat
DESCRIPTION:Join Jessica Greene for a rejuvenating experience at the "Just 
 Let Go" Day Retreat\, designed to help participants unwind and reconnect w
 ith themselves. The retreat will take place on a serene day filled with ac
 tivities aimed at promoting relaxation and well-being.\nSchedule of Events
 :\n\n 	10:30 AM - 11:00 AM: Arrival Guests are invited to arrive and settl
 e in\, embracing the tranquil atmosphere that sets the tone for the day ah
 ead.\n 	11:00 AM - 12:00 PM: Yoga Class Led by the inspiring Jessica Green
 e\, this invigorating yoga class will guide participants through mindful m
 ovements and breathwork. Attendees are encouraged to bring their own mats 
 to enhance their experience.\n 	12:00 PM: Catered Lunch Enjoy a delicious\
 , nutritious lunch catered by Tocaya\, featuring a variety of wholesome op
 tions to nourish both body and spirit.\n 	12:30 PM - 4:30 PM: Wellness Act
 ivities After lunch\, participants can indulge in a range of relaxing acti
 vities\, including access to the pool\, hot tub\, cold plunges\, and sauna
 . These amenities provide the perfect setting to unwind and refresh.\n 	Be
 verages and Wellness Bar Throughout the day\, attendees will have the oppo
 rtunity to enjoy refreshing beverages from VYBES and Barcode\, as well as 
 health-boosting options from the LivOn Labs Wellness Bar.\n 	Massage Thera
 py On-site massage therapists will be available to provide soothing treatm
 ents\, further enhancing the relaxation experience.\n 	Live Music Performa
 nces Adding to the day's atmosphere\, two live musical performances will u
 plift and inspire participants\, creating a joyful ambiance for everyone p
 resent.\n\nWhat to Bring:\nGuests should come prepared with their yoga mat
 s\, bathing suits\, and towels\, ensuring they can fully enjoy all the act
 ivities planned for the day.\n\nThis retreat offers a unique opportunity t
 o "Just Let Go" of the stresses of daily life\, encouraging individuals to
  find peace\, rejuvenation\, and a sense of community. Jessica Greene look
 s forward to welcoming everyone to a day of healing and connection!\n\nGET
  TICKETS\n
ATTACH;FMTTYPE=image/jpeg:https://breathelosangeles.us/wp-content/uploads/
 2024/10/Just-Let-Go-Day-Retreat.jpg
CATEGORIES:Retreats Events,Things To Do
LOCATION:4673 St Clair Ave\, 4673 Saint Clair Avenue\, Los Angeles\, Califo
 rnia\, 91607\, CA\, United States
X-APPLE-STRUCTURED-LOCATION;VALUE=URI;X-ADDRESS=4673 Saint Clair Avenue\, L
 os Angeles\, California\, 91607\, CA\, United States;X-APPLE-RADIUS=100;X-
 TITLE=4673 St Clair Ave:geo:0,0
END:VEVENT
BEGIN:VTIMEZONE
TZID:America/Los_Angeles
X-LIC-LOCATION:America/Los_Angeles
BEGIN:DAYLIGHT
DTSTART:20240310T030000
TZOFFSETFROM:-0800
TZOFFSETTO:-0700
TZNAME:PDT
END:DAYLIGHT
END:VTIMEZONE
END:VCALENDAR