BEGIN:VCALENDAR
VERSION:2.0
PRODID:-//wp-events-plugin.com//7.2.3.1//EN
BEGIN:VEVENT
UID:198@breathelosangeles.us
DTSTART;TZID=America/Los_Angeles:20240421T110000
DTEND;TZID=America/Los_Angeles:20240421T120000
DTSTAMP:20240404T171236Z
URL:https://breathelosangeles.us/events/kids-and-family-yoga-earth-day/
SUMMARY:Kids and Family Yoga: Earth Day!
DESCRIPTION:Embark on a joyful yoga journey with your little ones as we com
 e together to celebrate the beauty of our planet Earth.\n\nEvent Informati
 on:\n\nEvent Name: Kids and Family Yoga: Earth Day!\n\nHost: One Life Yoga
 \n\nDate and Time: Sunday\, April 21 • 11am - 12pm PDT\n\nLocation: One 
 Life Yoga\, 553 S Lake Ave\, Pasadena\, CA 91101\, United States\n\nAbout 
 this Event:  in celebrating Earth Day with a special yoga adventure for y
 our little ones! In this hour-long session\, children aged 3-8\, along wit
 h their parents or guardians\, will engage in fun yoga activities while le
 arning about our beautiful planet. From mastering tree pose to discovering
  fascinating facts about nature\, it's an experience not to be missed. $50
  per family (up to four people)\, $45 for OLY members. Please bring your o
 wn mat.\n\nWorkout Session Detail: This event offers a playful yoga sessio
 n designed specifically for kids and families to celebrate Earth Day. Acti
 vities will include yoga poses\, storytelling\, and learning about the env
 ironment.\n\nEssential for Bringing: Participants are required to bring th
 eir own mats. Parents or guardians should accompany children aged 3-8 thro
 ughout the session.\n\nParking Option: Parking is available in the Pavilio
 ns parking lot located on California Ave. Free parking is also available o
 n Sundays on Lake Ave. Please arrive on time as doors will be locked promp
 tly at 11:05 AM.\nTicket Information:\n\nGeneral Admission: $55.20\n\nTick
 et Price: $50.00\n\nFees: $5.20\n\nGET TICKETS\n\nRefund Policy: Contact t
 he organizer to request a refund. Eventbrite's fee is nonrefundable. For a
 ny inquiries\, email connect@onelifeyoga.com.
ATTACH;FMTTYPE=image/jpeg:https://breathelosangeles.us/wp-content/uploads/
 2024/04/NEWWWW.jpg
CATEGORIES:Wellness Events,Yoga Events
LOCATION:One Life Yoga\, 553 S Lake Ave\,  Pasadena\, \, United States\, 91
 101 \, CA \, United States
X-APPLE-STRUCTURED-LOCATION;VALUE=URI;X-ADDRESS=553 S Lake Ave\,  Pasadena\
 , \, United States\, 91101 \, CA \, United States;X-APPLE-RADIUS=100;X-TIT
 LE=One Life Yoga:geo:0,0
END:VEVENT
BEGIN:VTIMEZONE
TZID:America/Los_Angeles
X-LIC-LOCATION:America/Los_Angeles
BEGIN:DAYLIGHT
DTSTART:20240310T030000
TZOFFSETFROM:-0800
TZOFFSETTO:-0700
TZNAME:PDT
END:DAYLIGHT
END:VTIMEZONE
END:VCALENDAR