BEGIN:VCALENDAR
VERSION:2.0
PRODID:-//wp-events-plugin.com//7.2.3.1//EN
BEGIN:VEVENT
UID:542@breathelosangeles.us
DTSTART;TZID=America/Los_Angeles:20240907T190000
DTEND;TZID=America/Los_Angeles:20241103T010000
DTSTAMP:20240928T084709Z
URL:https://breathelosangeles.us/events/kids-boo-fest/
SUMMARY:Kids Boo Fest
DESCRIPTION:Six Flags Magic Mountain\, known as the "Thrill Capital of the 
 World\," is excited to welcome families to its delightful daytime event\, 
 Kids Boo Fest\, running on select dates until November 3. This festive cel
 ebration promises a day filled with fun\, laughter\, and family-friendly a
 ttractions designed to entertain children and parents alike.\n\nDuring Kid
 s Boo Fest\, young thrill-seekers can enjoy access to the park’s beloved
  roller coasters and rides\, ensuring an action-packed day of excitement. 
 In addition to the rides\, children can embark on a classic trick-or-treat
  trail located in the whimsical Bugs Bunny World. Here\, they can gather d
 elicious treats and candy as they stroll through a vibrant and festive atm
 osphere.\n\nThe event also features a variety of scary-good snacks and tre
 ats that are sure to delight young taste buds\, adding to the festive spir
 it of the season. Kids Boo Fest provides a perfect opportunity for familie
 s to create lasting memories while enjoying the thrills of the park.\n\nPa
 rents should note that only children aged 12 and under are permitted to we
 ar costumes at Six Flags Magic Mountain. To ensure a safe and enjoyable ex
 perience for all guests\, masks\, makeup\, and costumes that are scary or 
 gory are not allowed.\n\nKids Boo Fest is the perfect way to celebrate Hal
 loween in a fun\, family-friendly environment before the park transitions 
 to its thrilling nighttime event\, Fright Fest Extreme\, where the scares 
 come out to play.\n\nGET TICKETS\n
ATTACH;FMTTYPE=image/jpeg:https://breathelosangeles.us/wp-content/uploads/
 2024/09/Kids-Boo-Fest.webp
CATEGORIES:Things To Do
LOCATION:Six Flags Magic Mountain\, 26101 Magic Mountain Pkwy\, Los Angeles
 \, California\, 90027\, CA\, United States
X-APPLE-STRUCTURED-LOCATION;VALUE=URI;X-ADDRESS=26101 Magic Mountain Pkwy\,
  Los Angeles\, California\, 90027\, CA\, United States;X-APPLE-RADIUS=100;
 X-TITLE=Six Flags Magic Mountain:geo:0,0
END:VEVENT
BEGIN:VTIMEZONE
TZID:America/Los_Angeles
X-LIC-LOCATION:America/Los_Angeles
BEGIN:DAYLIGHT
DTSTART:20240310T030000
TZOFFSETFROM:-0800
TZOFFSETTO:-0700
TZNAME:PDT
END:DAYLIGHT
END:VTIMEZONE
END:VCALENDAR