BEGIN:VCALENDAR
VERSION:2.0
PRODID:-//wp-events-plugin.com//7.2.3.1//EN
BEGIN:VEVENT
UID:344@breathelosangeles.us
DTSTART;TZID=America/Los_Angeles:20240720T093000
DTEND;TZID=America/Los_Angeles:20240720T110000
DTSTAMP:20240629T191137Z
URL:https://breathelosangeles.us/events/kitty-yoga-with-rescue-kittens/
SUMMARY:Kitty Yoga with Rescue Kittens
DESCRIPTION:Laughing Frog Yoga is excited to collaborate with Kitty Bungalo
 w Rescue for an adorable Kitty Yoga session on June 22nd. Join us for a un
 ique yoga experience where playful kittens\, all available for adoption\, 
 will join you on the mat. It’s the purrfect way to support a wonderful c
 ause!\n\nAbout the Event:\n\nImmerse yourself in the tranquility of yoga w
 hile surrounded by adorable rescue kittens eager to find their forever hom
 es. This event not only offers a delightful yoga practice but also support
 s Kitty Bungalow Rescue\, a nonprofit dedicated to rescuing and rehabilita
 ting cats in need.\n\nWhy Attend?\n\nWhether you're a yoga enthusiast or a
 n animal lover\, Kitty Yoga promises a heartwarming experience. Interact w
 ith playful kittens\, unwind with yoga poses led by experienced instructor
 s\, and potentially meet your new furry companion—all in a supportive an
 d compassionate environment.\n\nGET TICKETS\n
ATTACH;FMTTYPE=image/jpeg:https://breathelosangeles.us/wp-content/uploads/
 2024/06/Kitty-Yoga-with-Rescue-Kittens.jpg
CATEGORIES:Mindfulness Events,Wellness Events,Yoga Events
LOCATION:4851 W Jefferson Blvd\, 4851 West Jefferson Boulevard \, Los Angel
 es\, California\, 90016\, CA\, United States
X-APPLE-STRUCTURED-LOCATION;VALUE=URI;X-ADDRESS=4851 West Jefferson Bouleva
 rd \, Los Angeles\, California\, 90016\, CA\, United States;X-APPLE-RADIUS
 =100;X-TITLE=4851 W Jefferson Blvd:geo:0,0
END:VEVENT
BEGIN:VTIMEZONE
TZID:America/Los_Angeles
X-LIC-LOCATION:America/Los_Angeles
BEGIN:DAYLIGHT
DTSTART:20240310T030000
TZOFFSETFROM:-0800
TZOFFSETTO:-0700
TZNAME:PDT
END:DAYLIGHT
END:VTIMEZONE
END:VCALENDAR