BEGIN:VCALENDAR
VERSION:2.0
PRODID:-//wp-events-plugin.com//7.2.3.1//EN
BEGIN:VEVENT
UID:707@breathelosangeles.us
DTSTART;TZID=America/Los_Angeles:20241026T180000
DTEND;TZID=America/Los_Angeles:20241026T230000
DTSTAMP:20241015T055645Z
URL:https://breathelosangeles.us/events/la-haunt-couture-2024/
SUMMARY:LA Haunt Couture 2024
DESCRIPTION:The much-anticipated Haunt Couture event is set to make a grand
  return in 2024\, promising to be the most exciting night of the year for 
 the Los Angeles architecture and design community. This unique celebration
  invites attendees to immerse themselves in a world where fashion meets in
 novative design\, showcasing spectacular garments created by leading archi
 tecture and design firms using contract textiles and materials.\n\nAs the 
 evening unfolds\, guests will have the opportunity to sip on exquisite coc
 ktails while mingling with industry peers and professionals. This dynamic 
 networking environment encourages connections and collaborations\, making 
 it a must-attend event for anyone in the field.\n\nThe highlight of the ni
 ght will undoubtedly be the runway show\, featuring a dazzling array of on
 e-of-a-kind outfits that push the boundaries of creativity and craftsmansh
 ip. Each piece will reflect the unique vision of its creators\, embodying 
 the spirit of innovation that characterizes the architectural and design l
 andscape in Los Angeles.\n\nDon’t miss this chance to be part of a truly
  memorable night\, where style\, artistry\, and industry converge in an un
 forgettable celebration of creativity and community. Join us for Haunt Cou
 ture 2024 and witness firsthand the exceptional talent that defines the vi
 brant world of architecture and design in L.A.\n\nGET TICKETS\n
ATTACH;FMTTYPE=image/jpeg:https://breathelosangeles.us/wp-content/uploads/
 2024/10/LA-Haunt-Couture-2024.jpg
CATEGORIES:Things To Do
END:VEVENT
BEGIN:VTIMEZONE
TZID:America/Los_Angeles
X-LIC-LOCATION:America/Los_Angeles
BEGIN:DAYLIGHT
DTSTART:20240310T030000
TZOFFSETFROM:-0800
TZOFFSETTO:-0700
TZNAME:PDT
END:DAYLIGHT
END:VTIMEZONE
END:VCALENDAR