BEGIN:VCALENDAR
VERSION:2.0
PRODID:-//wp-events-plugin.com//7.2.3.1//EN
BEGIN:VEVENT
UID:417@breathelosangeles.us
DTSTART;TZID=America/Los_Angeles:20240911T170000
DTEND;TZID=America/Los_Angeles:20240911T220000
DTSTAMP:20240823T060549Z
URL:https://breathelosangeles.us/events/la-system-reset-fire-ice-edition%e
 f%b8%8f/
SUMMARY:LA SYSTEM RESET FIRE & ICE EDITION™️
DESCRIPTION:Ever wonder what it would feel like to hit the "RESET" button o
 n your mind\, body\, and emotions? Step into an extraordinary wellness exp
 erience with LA SYSTEM RESET FIRE &amp\; ICE EDITION™️—designed to u
 nlock your greatest breakthrough yet.\nWhy Participate in SYSTEM RESET™
 ️?\nImagine the feeling of reclaiming your true self—refreshed\, resil
 ient\, and ready to face life’s challenges with renewed energy. SYSTEM R
 ESET™️ is an immersive\, transformative wellness experience that facil
 itates profound self-healing and personal breakthroughs. Through the power
  of breathwork\, meditation\, sound healing\, and ecstatic dance\, you'll 
 gain transformative tools that seamlessly integrate into your daily life\,
  helping you maintain balance and well-being long after the event.\nWho Is
  This Experience For?\nWhether you're a total beginner or an advanced medi
 tator\, SYSTEM RESET™️ meets you exactly where you are on your journey
 . This experience is perfect for those seeking:\n\n 	Transformation from p
 ast trauma\n 	A deeper sense of purpose and belonging\n 	Effective techniq
 ues for stress and anxiety management\n 	A deepening of existing practices
 \n 	Support in overcoming PTSD\, addictions\, fear\, and anxiety\n\nIf you
 're ready for change\, growth\, and healing\, this experience is for you.\
 nThe Scientific Benefits of SYSTEM RESET™️:\nSYSTEM RESET™️ is mor
 e than just an event—it’s a scientifically-backed approach to holistic
  wellness that nurtures both emotional and physical health.\n\nEmotional W
 ellness:\n\n 	Significant stress reduction\n 	Enhanced anxiety control\n 	
 Increased energy and vitality\n 	Emotional balance and heightened self-awa
 reness\n 	Support in overcoming addictions\n\nPhysical Wellness:\n\n 	Regu
 lation of blood pressure\n 	Immune system boost\n 	Anti-inflammatory benef
 its\n 	Improved heart and lung health\n 	Enhanced muscular strength and en
 durance\n 	Better sleep quality\n\nThis unique experience combines the ele
 ments of Fire &amp\; Ice to push the boundaries of your comfort zone\, gui
 ding you towards a place of inner peace\, strength\, and resilience. Come 
 prepared to breathe deeply\, dance freely\, meditate deeply\, and biohack 
 your way to a better version of yourself.\nAre You Ready to Press RESET?\n
 Join us at LA SYSTEM RESET FIRE &amp\; ICE EDITION™️ and discover the 
 power within you to reset\, renew\, and rejuvenate your entire being. Let 
 this be the moment you reclaim your true self—energized\, balanced\, and
  fully alive.\n\nGET TICKETS\n
ATTACH;FMTTYPE=image/jpeg:https://breathelosangeles.us/wp-content/uploads/
 2024/08/LA-SYSTEM-RESET-FIRE-ICE-EDITION™️.jpg
CATEGORIES:Featured Events,Mindfulness Events,Things To Do,Wellness Events
LOCATION:Quantum Wellness Spa\, 1027 Wilshire Boulevard \, Los Angeles\, Ca
 lifornia\, 90017\, CA\, United States
X-APPLE-STRUCTURED-LOCATION;VALUE=URI;X-ADDRESS=1027 Wilshire Boulevard \, 
 Los Angeles\, California\, 90017\, CA\, United States;X-APPLE-RADIUS=100;X
 -TITLE=Quantum Wellness Spa:geo:0,0
END:VEVENT
BEGIN:VTIMEZONE
TZID:America/Los_Angeles
X-LIC-LOCATION:America/Los_Angeles
BEGIN:DAYLIGHT
DTSTART:20240310T030000
TZOFFSETFROM:-0800
TZOFFSETTO:-0700
TZNAME:PDT
END:DAYLIGHT
END:VTIMEZONE
END:VCALENDAR